BEGIN:VCALENDAR
VERSION:2.0
PRODID:-//ChamberMaster//Event Calendar 2.0//EN
METHOD:PUBLISH
X-PUBLISHED-TTL:P3D
REFRESH-INTERVAL:P3D
CALSCALE:GREGORIAN
BEGIN:VEVENT
DTSTART:20140202T113000Z
DTEND:20140202T130000Z
X-MICROSOFT-CDO-ALLDAYEVENT:FALSE
SUMMARY:10th Annual Groundhog Day on Hollywood Beach
DESCRIPTION:10th Annual Groundhog Day on Hollywood Beach
X-ALT-DESC;FMTTYPE=text/html:10th Annual Groundhog Day on Hollywood Beach
LOCATION:Ocean Alley Restaurant & Bar Indiana Street and the Broadwalk
UID:e.828.987
SEQUENCE:3
DTSTAMP:20260424T031929Z
URL:http://business.daniabeachchamber.org/events/details/10th-annual-groundhog-day-on-hollywood-beach-02-02-2014-987
END:VEVENT

END:VCALENDAR
