BEGIN:VCALENDAR
VERSION:2.0
PRODID:-//ChamberMaster//Event Calendar 2.0//EN
METHOD:PUBLISH
X-PUBLISHED-TTL:P3D
REFRESH-INTERVAL:P3D
CALSCALE:GREGORIAN
BEGIN:VEVENT
DTSTART:20120121T130000Z
DTEND:20120121T160000Z
X-MICROSOFT-CDO-ALLDAYEVENT:FALSE
SUMMARY:1ST Annual WALK FOR THE LIBRARY
DESCRIPTION:
X-ALT-DESC;FMTTYPE=text/html:<p>\n	<font face="Comic Sans MS" size="3">&nbsp\;</font><span style="font-family: comic sans ms"><span style="font-size: 16px">&nbsp\;</span></span></p>\n<br />\n
LOCATION:Walk begins at ONE PARK AVENUE EAST at 8 a.m.
UID:e.828.240
SEQUENCE:3
DTSTAMP:20260425T200314Z
URL:http://business.daniabeachchamber.org/events/details/1st-annual-walk-for-the-library-01-21-2012-240
END:VEVENT

END:VCALENDAR
