BEGIN:VCALENDAR
VERSION:2.0
PRODID:-//ChamberMaster//Event Calendar 2.0//EN
METHOD:PUBLISH
X-PUBLISHED-TTL:P3D
REFRESH-INTERVAL:P3D
CALSCALE:GREGORIAN
BEGIN:VEVENT
DTSTART:20150522T154500Z
DTEND:20150522T170000Z
X-MICROSOFT-CDO-ALLDAYEVENT:FALSE
SUMMARY:2015 American Cancer Society's Jail & Bail_Meeting
DESCRIPTION:2015 American Cancer Society's\n\nJail & Bail 2015\n\nIMPORTANT Meeting\n\nMay 22\, 2015\n\n11:45 AM
X-ALT-DESC;FMTTYPE=text/html:<span style="font-size:20px\;">2015 American Cancer Society&#39\;s<br />\nJail &amp\; Bail 2015</span><br />\n<span style="font-size:20px\;"><strong>IMPORTANT Meeting</strong><br />\nMay 22\, 2015<br />\n11:45 AM</span>
LOCATION:Westin Hotel 400 Corporate Drive Ft Lauderdale\, FL 33334 (I-95 & Cypress Creek East)
UID:e.828.1053
SEQUENCE:3
DTSTAMP:20260423T041434Z
URL:http://business.daniabeachchamber.org/events/details/2015-american-cancer-society-s-jail-bail_meeting-05-22-2015-1053
END:VEVENT

END:VCALENDAR
