BEGIN:VCALENDAR
VERSION:2.0
PRODID:-//ChamberMaster//Event Calendar 2.0//EN
METHOD:PUBLISH
X-PUBLISHED-TTL:P3D
REFRESH-INTERVAL:P3D
CALSCALE:GREGORIAN
BEGIN:VEVENT
DTSTART:20140125T150000Z
DTEND:20140125T220000Z
X-MICROSOFT-CDO-ALLDAYEVENT:FALSE
SUMMARY:8th Annual Dania Beach Vintage Motorcycle Show
DESCRIPTION:This Year's Featured Bike: Caf  Racers\n\n	\n		 \n\n\n	Mark your calendars for the biggest Vintage Motorcycle show in South Florida! Over 300 antique bikes will be judged under the trees at beautiful Frost Park in Dania Beach. There will be live music\, vendors\, bike parts swap meet\, food\, Harley skill team demonstrations\, motorcycle field games\, Roller Derby Girls\, vintage bicycle display\, skateboard demos\, kiddy play area and more! The event is FREE to the public with a fee to enter bikes and proceeds benefit Stray Aid & Rescue. \n\n	So bring the whole family for a day of sun and fun!!!
X-ALT-DESC;FMTTYPE=text/html:<h4 class="highlight" style="margin: 0px\; padding: 0px\; color: rgb(153\, 0\, 0)\; font-size: 28px\; font-family: Verdana\, Geneva\, sans-serif\;">\n	This Year&#39\;s Featured Bike: Caf&eacute\; Racers</h4>\n<ul class="flr" style="margin: 0px\; padding-right: 0px\; padding-left: 0px\; float: right\; color: rgb(0\, 0\, 0)\; font-family: Verdana\, Geneva\, sans-serif\; font-size: medium\; list-style-type: none\; width: 200px\;">\n	<li class="the-tooltip top center full-width sky-blue" style="margin: 0px\; padding: 0px\; position: relative\;">\n		&nbsp\;</li>\n</ul>\n<p class="largerText" style="margin: 0px\; padding: 0px\; font-size: 22px\; line-height: 35px\; color: rgb(0\, 0\, 0)\; font-family: Verdana\, Geneva\, sans-serif\;">\n	Mark your calendars for the biggest Vintage Motorcycle show in South Florida! Over 300 antique bikes will be judged under the trees at beautiful Frost Park in Dania Beach. There will be live music\, vendors\, bike parts swap meet\, food\, Harley skill team demonstrations\, motorcycle field games\, Roller Derby Girls\, vintage bicycle display\, skateboard demos\, kiddy play area and more! The event is FREE to the public with a fee to enter bikes and proceeds benefit Stray Aid &amp\; Rescue.&nbsp\;<br style="margin: 0px\; padding: 0px\;" />\n	So bring the whole family for a day of sun and fun!!!</p>\n
LOCATION:Frost Park 300 NE 2nd Ave Dania Beach West of Dania Beach Jai Alai
UID:e.828.37
SEQUENCE:3
DTSTAMP:20260424T044622Z
URL:http://business.daniabeachchamber.org/events/details/8th-annual-dania-beach-vintage-motorcycle-show-01-25-2014-37
END:VEVENT

END:VCALENDAR
