BEGIN:VCALENDAR
VERSION:2.0
PRODID:-//ChamberMaster//Event Calendar 2.0//EN
METHOD:PUBLISH
X-PUBLISHED-TTL:P3D
REFRESH-INTERVAL:P3D
CALSCALE:GREGORIAN
BEGIN:VEVENT
DTSTART:20120524T213000Z
DTEND:20120524T230000Z
X-MICROSOFT-CDO-ALLDAYEVENT:FALSE
SUMMARY:After Hours GRAND OPENING @ RHYTHMIC ART
DESCRIPTION:RHYTHMIC ART\n\n	Community  Welcome!\n\n	\n\n	Rhythmic Gymnastics is one of the most elegant gymnastics disciplines\, combining gymnastics\, dance and ballet. Gymnasts use hand-held apparatuses\, including rope\, hoop\, ball\, clubs\, ribbon and free (no apparatus\, so called "floor routine") and perform choreographed routines in front of a judging panel.\n\n	 \n\n	As a competitive discipline\, rhythmic gymnastics started in the former Soviet Union and in years it spread out throughout the world.  Top rhythmic gymnasts must have many qualities: balance\, flexibility\, coordination and strength are some of the most important. They also must possess psychological attributes such as the ability to compete under intense pressure\, in which one mistake can cost you the title\, and the discipline and work ethic to practice the same skills over and over again. \n\n	\n\n	\n\n	Member Networking\n\n	\n		Getting out and making connections with your colleagues to increase your business.\n	\n		Connecting with members\, sharing information to strengthen your contact base and web of influence.\n	\n		Learn what other businesses know and how they have solved their business challenges.
X-ALT-DESC;FMTTYPE=text/html:<p style="text-align: center\; margin: 0in 0in 0pt">\n	<strong><span style="font-size: 16px"><span style="color: #0000ff"><span style="font-family: 'arial black'\, 'sans-serif'">RHYTHMIC ART<br />\n	Community&nbsp\; Welcome!<br />\n	<br />\n	<u><span style="font-size: 10pt"><span style="font-family: arial"><a href="http://en.wikipedia.org/wiki/Rhythmic_gymnastics"><span style="color: windowtext">Rhythmic Gymnastics</span></a></span></span></u><span style="font-size: 10pt"><span style="color: #5b5b5b"><span style="font-family: arial">&nbsp\;is one of the <em><span style="font-style: normal"><span style="font-family: arial">most elegant </span></span></em>gymnastics disciplines\, combining gymnastics\, dance and ballet. Gymnasts use hand-held apparatuses\, including rope\, hoop\, ball\, clubs\, ribbon and free (no apparatus\, so called &ldquo\;floor routine&rdquo\;) and perform choreographed routines in front of a judging panel.</span></span></span><br />\n	&nbsp\;<br />\n	<span style="font-size: 10pt"><span style="color: #5b5b5b"><span style="font-family: arial">As a competitive discipline\, rhythmic gymnastics started in the former </span></span></span><span style="font-size: 10pt"><span style="color: #5b5b5b"><span style="font-family: arial">Soviet Union </span></span></span><span style="font-size: 10pt"><span style="color: #5b5b5b"><span style="font-family: arial">and in years it spread out throughout the world.&nbsp\; Top rhythmic gymnasts must have many qualities: balance\, flexibility\, coordination and strength are some of the most important. They also must possess psychological attributes such as the ability to compete under intense pressure\, in which one mistake can cost you the title\, and the discipline and work ethic to practice the same skills over and over again.&nbsp\;</span></span></span></span></span></span></strong><br />\n	<br />\n	<br />\n	<span style="font-family: 'arial black'\, 'sans-serif'\; font-size: 10pt"><span style="font-size: 14px"><span style="font-family: arial"><strong><strong><strong>Member Networking</strong></strong></strong></span></span></span></p>\n<ul>\n	<li>\n		<span style="font-family: 'arial black'\, 'sans-serif'\; font-size: 10pt"><span style="font-size: 14px"><span style="font-family: arial"><strong><strong>Getting out and making connections with your colleagues to increase your business.</strong></strong></span></span></span></li>\n	<li>\n		<span style="font-family: 'arial black'\, 'sans-serif'\; font-size: 10pt"><span style="font-size: 14px"><span style="font-family: arial"><strong><strong>Connecting with members\, sharing information to strengthen your contact base and web of influence.</strong></strong></span></span></span></li>\n	<li>\n		<span style="font-family: 'arial black'\, 'sans-serif'\; font-size: 10pt"><span style="font-size: 14px"><span style="font-family: arial"><strong><strong>Learn what other businesses know and how they have solved their business challenges.</strong></strong></span></span></span></li>\n</ul>\n<p>\n	<span style="font-family: 'arial black'\, 'sans-serif'\; color: black\; font-size: 10pt"><span style="font-size: 14px"><span style="font-family: arial"><strong><span style="color: #3d85c6"><strong>&nbsp\;</strong></span></strong></span></span></span></p>\n<li>\n	&nbsp\;\n	<p style="text-align: center\; margin: 0in 0in 0pt">\n		<br />\n		&nbsp\;</p>\n</li>\n
LOCATION:301 N BRYAN ROAD DANIA BEACH\, FL 33004 Plenty of Parking
UID:e.828.271
SEQUENCE:3
DTSTAMP:20260425T130843Z
URL:http://business.daniabeachchamber.org/events/details/after-hours-grand-opening-rhythmic-art-05-24-2012-271
END:VEVENT

END:VCALENDAR
