BEGIN:VCALENDAR
VERSION:2.0
PRODID:-//ChamberMaster//Event Calendar 2.0//EN
METHOD:PUBLISH
X-PUBLISHED-TTL:P3D
REFRESH-INTERVAL:P3D
CALSCALE:GREGORIAN
BEGIN:VEVENT
DTSTART:20131024T213000Z
DTEND:20131024T230000Z
X-MICROSOFT-CDO-ALLDAYEVENT:FALSE
SUMMARY:AFTER HOURS NETWORKING
DESCRIPTION:Sponsored  by\n\n	\n\n	North Trail RV Center - Fort Lauderdale\n\n	\n\n	\n\n	 - NETWORKING -\n\n	\n\n	5:30-7pm  -  Hors doeuvres & beverages\n\n	\n\n	Members $5   -   Future Members $10\n\n	\n\n	 Please  RSVP     954.926.2323
X-ALT-DESC;FMTTYPE=text/html:<p style="text-align: center">\n	<strong><span style="font-family:verdana\;"><span style="font-size: 14px\;">Sponsored&nbsp\; by</span><br />\n	<br />\n	<span style="font-size: 12pt\;">North Trail RV Center - Fort Lauderdale</span></span></strong><br />\n	<br />\n	<br />\n	<u><span style="font-size: 14px">&nbsp\;- NETWORKING -</span></u><br />\n	<br />\n	<em><strong><span style="font-size: 14px"><span style="font-size: 12px"><span style="font-size: 16px">5:30-7pm&nbsp\; -&nbsp\; Hors doeuvres &amp\; beverages<br />\n	<br />\n	Members $5&nbsp\;&nbsp\; -&nbsp\;&nbsp\; Future Members $10</span><br />\n	<br />\n	&nbsp\;Please&nbsp\; RSVP&nbsp\;&nbsp\;&nbsp\;&nbsp\; 954.926.2323</span></span></strong></em></p>\n
LOCATION:North Trail RV Center - Fort Lauderdale 4300 RAVENSWOOD RD DANIA BEACH\, FL 33312
UID:e.828.913
SEQUENCE:3
DTSTAMP:20260424T093054Z
URL:http://business.daniabeachchamber.org/events/details/after-hours-networking-10-24-2013-913
END:VEVENT

END:VCALENDAR
