BEGIN:VCALENDAR
VERSION:2.0
PRODID:-//ChamberMaster//Event Calendar 2.0//EN
METHOD:PUBLISH
X-PUBLISHED-TTL:P3D
REFRESH-INTERVAL:P3D
CALSCALE:GREGORIAN
BEGIN:VEVENT
DTSTART:20110922T213000Z
DTEND:20110922T230000Z
X-MICROSOFT-CDO-ALLDAYEVENT:FALSE
SUMMARY:After Hours Networking DESIGNER DISCOUNT FABRICS & FURN
DESCRIPTION:Jackie Liriano is inviting you to\n\n	her  Stunning\n\n	Designer Showroom of over 2\,500\n\n	square feet of fabulosity!   \n\n\n	Right in the middle of our new\n\n	Design District\n\n	 Hors d'oeuvres & drinks provided\n\n	   Bring plenty of business cards
X-ALT-DESC;FMTTYPE=text/html:<p style="text-align: center">\n	<span style="font-size: 12pt"><span style="font-family: antique olive roman\, sans-serif">Jackie Liriano is inviting you to<br />\n	her &nbsp\;Stunning<br />\n	Designer Showroom of over 2\,500<br />\n	square feet of fabulosity!&nbsp\;&nbsp\;&nbsp\;</span></span></p>\n<hr />\n<p style="text-align: center">\n	<span style="font-size: 12pt"><span style="font-family: antique olive roman\, sans-serif">Right in the middle of our new<br />\n	Design District<br />\n	<strong>&nbsp\;Hors d&rsquo\;oeuvres &amp\; drinks&nbsp\;provided</strong></span></span><br />\n	<strong><span style="font-size: 12pt"><span style="font-family: antique olive roman\, sans-serif">&nbsp\;&nbsp\;&nbsp\;<span style="font-size: 12px">Bring plenty of business cards</span></span></span></strong><br />\n	<br />\n	&nbsp\;</p>\n
LOCATION:DESIGNER DISCOUNT FABRICS & FURNITURE 1206 STIRLING RD Ample Parking Watch for Signs
UID:e.828.217
SEQUENCE:3
DTSTAMP:20260426T022758Z
URL:http://business.daniabeachchamber.org/events/details/after-hours-networking-designer-discount-fabrics-furn-09-22-2011-217
END:VEVENT

END:VCALENDAR
