BEGIN:VCALENDAR
VERSION:2.0
PRODID:-//ChamberMaster//Event Calendar 2.0//EN
METHOD:PUBLISH
X-PUBLISHED-TTL:P3D
REFRESH-INTERVAL:P3D
CALSCALE:GREGORIAN
BEGIN:VEVENT
DTSTART:20120426T213000Z
DTEND:20120426T230000Z
X-MICROSOFT-CDO-ALLDAYEVENT:FALSE
SUMMARY:After Hours Networking Sponsor: CAMBRIA SUITES
DESCRIPTION:CAMBRIA SUITES\n\n	This Florida hotel features oversized suites with luxurious bedding and upscale amenities like two flat-screen LCD televisions\, spa-like baths featuring Bath and Body Works amenities\, microwaves\, refrigerators and Wolfgang Puck coffee. Take advantage of the in-room MediaHub plug and play technology for your laptop\, MP3 player\, game console and digital camera.\n\n	The open and airy two-story lobby provides club-lounge seating\, the perfect place to unwind at the end of the day. Meet with friends and associates\, or enjoy some time alone in the gathering area. Catch up on events and news of the day in front of the big-screen media wall. \n\n	The Cambria Suites Ft. Lauderdale\, Airport South & Cruise Port hotel in Dania Beach\, FL offers a personal environment with all the sophisticated technology of a modern home. When your business is done for the day\, we know you'll be able to relax and enjoy yourself when you stay with us. Make a reservation with us today.  \n\n	Member Networking\n\n	\n		Getting out and making connections with your colleagues to increase your business.\n	\n		Connecting with members\, sharing information to strengthen your contact base and web of influence.\n	\n		Learn what other businesses know and how they have solved their business challenges.
X-ALT-DESC;FMTTYPE=text/html:<p style="text-align: center\; margin: 0in 0in 0pt">\n	<strong><span style="font-size: 16px"><span style="color: #0000ff"><span style="font-family: 'arial black'\, 'sans-serif'">CAMBRIA SUITES</span></span></span></strong></p>\n<p>\n	<span style="font-family: 'arial black'\, 'sans-serif'\; font-size: 10pt"><span style="font-size: 14px"><span style="font-family: arial"><strong><strong>This Florida hotel features <strong>oversized suites</strong> with <strong>luxurious bedding</strong> and <strong>upscale amenities</strong> like <strong>two flat-screen LCD televisions</strong>\, <strong>spa-like baths </strong>featuring<strong> Bath and Body Works amenities</strong>\, <strong>microwaves</strong>\, <strong>refrigerators</strong> and <strong>Wolfgang Puck coffee</strong>. Take advantage of the <strong>in-room MediaHub plug </strong>and<strong> play technology</strong> for your laptop\, MP3 player\, game console and digital camera.</strong></strong></span></span></span></p>\n<p>\n	<span style="font-family: 'arial black'\, 'sans-serif'\; font-size: 10pt"><span style="font-size: 14px"><span style="font-family: arial"><strong><strong>The open and airy <strong>two-story lobby</strong> provides club-lounge seating\, the perfect place to unwind at the end of the day. Meet with friends and associates\, or enjoy some time alone in the gathering area. Catch up on events and news of the day in front of the <strong>big-screen media wall</strong>.&nbsp\;</strong></strong></span></span></span></p>\n<p>\n	<span style="font-family: 'arial black'\, 'sans-serif'\; font-size: 10pt"><span style="font-size: 14px"><span style="font-family: arial"><strong><strong><span style="font-family: 'arial black'\, 'sans-serif'\; font-size: 10pt"><span style="font-size: 14px"><span style="font-family: arial"><strong><strong>The Cambria Suites Ft. Lauderdale\, Airport South &amp\; Cruise Port hotel in Dania Beach\, FL offers a personal environment with all the sophisticated technology of a modern home. When your business is done for the day\, we know you&#39\;ll be able to relax and enjoy yourself when you stay with us. Make a reservation with us today.<span _fck_bookmark="1" style="display: none">&nbsp\;</span></strong></strong></span></span></span>&nbsp\;</strong></strong></span></span></span></p>\n<p style="text-align: center">\n	<span style="font-family: 'arial black'\, 'sans-serif'\; font-size: 10pt"><span style="font-size: 14px"><span style="font-family: arial"><strong><strong><strong>Member Networking</strong></strong></strong></span></span></span></p>\n<ul>\n	<li>\n		<span style="font-family: 'arial black'\, 'sans-serif'\; font-size: 10pt"><span style="font-size: 14px"><span style="font-family: arial"><strong><strong>Getting out and making connections with your colleagues to increase your business.</strong></strong></span></span></span></li>\n	<li>\n		<span style="font-family: 'arial black'\, 'sans-serif'\; font-size: 10pt"><span style="font-size: 14px"><span style="font-family: arial"><strong><strong>Connecting with members\, sharing information to strengthen your contact base and web of influence.</strong></strong></span></span></span></li>\n	<li>\n		<span style="font-family: 'arial black'\, 'sans-serif'\; font-size: 10pt"><span style="font-size: 14px"><span style="font-family: arial"><strong><strong>Learn what other businesses know and how they have solved their business challenges.</strong></strong></span></span></span></li>\n</ul>\n<p>\n	<span style="font-family: 'arial black'\, 'sans-serif'\; font-size: 10pt"><span style="font-size: 14px"><span style="font-family: arial"><strong><strong>&nbsp\;</strong></strong></span></span></span></p>\n<p>\n	&nbsp\;</p>\n<ul>\n	<li>\n		&nbsp\;</li>\n</ul>\n<p style="text-align: center\; margin: 0in 0in 0pt">\n	<br />\n	&nbsp\;</p>\n
LOCATION:141 SW 19 COURT DANIA BEACH\, FL 33004 Just west of I-95 & Just north of Stirling Rd Plenty of Parking
UID:e.828.270
SEQUENCE:3
DTSTAMP:20260425T144931Z
URL:http://business.daniabeachchamber.org/events/details/after-hours-networking-sponsor-cambria-suites-04-26-2012-270
END:VEVENT

END:VCALENDAR
