BEGIN:VCALENDAR
VERSION:2.0
PRODID:-//ChamberMaster//Event Calendar 2.0//EN
METHOD:PUBLISH
X-PUBLISHED-TTL:P3D
REFRESH-INTERVAL:P3D
CALSCALE:GREGORIAN
BEGIN:VEVENT
DTSTART:20111027T213000Z
DTEND:20111027T230000Z
X-MICROSOFT-CDO-ALLDAYEVENT:FALSE
SUMMARY:After Hours Networking Sponsor: COMMUNITY BANK of BROWARD
DESCRIPTION:COMMUNITY BANK of BROWARD\n\n	1991  Stirling Road\n\n	5:30 - 7:00 pm\n\n	 \n\n	Member Networking\n\n	\n		Getting out and making connections with your colleagues to increase your business.\n	\n		Connecting with members\, sharing information to strengthen your contact base and web of influence.\n	\n		Learn what other businesses know and how they have solved their business challenges.
X-ALT-DESC;FMTTYPE=text/html:<p style="text-align: center\; margin: 0in 0in 0pt">\n	<strong><span style="color: #0000ff"><span style="font-family: 'arial black'\, 'sans-serif'\; font-size: 10pt">COMMUNITY BANK of BROWARD</span></span><br />\n	<span style="font-family: 'arial black'\, 'sans-serif'\; color: black\; font-size: 10pt">1991&nbsp\; Stirling Road<br />\n	5:30 - 7:00 pm</span></strong><br />\n	&nbsp\;</p>\n<p>\n	<strong>Member Networking</strong></p>\n<ul>\n	<li>\n		Getting out and making connections with your colleagues to increase your business.</li>\n	<li>\n		Connecting with members\, sharing information to strengthen your contact base and web of influence.</li>\n	<li>\n		Learn what other businesses know and how they have solved their business challenges.</li>\n</ul>\n<p style="text-align: center\; margin: 0in 0in 0pt">\n	<br />\n	&nbsp\;</p>\n
LOCATION:1991 Stirling Road Plenty of Parking
UID:e.828.221
SEQUENCE:3
DTSTAMP:20260426T010031Z
URL:http://business.daniabeachchamber.org/events/details/after-hours-networking-sponsor-community-bank-of-broward-10-27-2011-221
END:VEVENT

END:VCALENDAR
