BEGIN:VCALENDAR
VERSION:2.0
PRODID:-//ChamberMaster//Event Calendar 2.0//EN
METHOD:PUBLISH
X-PUBLISHED-TTL:P3D
REFRESH-INTERVAL:P3D
CALSCALE:GREGORIAN
BEGIN:VEVENT
DTSTART:20120126T223000Z
DTEND:20120127T000000Z
X-MICROSOFT-CDO-ALLDAYEVENT:FALSE
SUMMARY:After Hours Networking Sponsor: JIMMIES CHOCOLATES & CAFE
DESCRIPTION:JIMMIES CHOCOLATES & CAFE\n\n	Who Loves Chocolate & Great Food ?\n\n	5:30 - 7:00 pm
X-ALT-DESC;FMTTYPE=text/html:<p style="text-align: center\; margin: 0in 0in 0pt">\n	<strong><span style="color: #0000ff"><span style="font-family: 'arial black'\, 'sans-serif'\; font-size: 10pt"><span style="font-size: 16px">JIMMIES CHOCOLATES &amp\; CAFE</span><br />\n	Who Loves Chocolate &amp\; Great Food&nbsp\;?</span></span><br />\n	<span style="font-family: 'arial black'\, 'sans-serif'\; color: black\; font-size: 10pt">5:30 - 7:00 pm</span></strong><br />\n	&nbsp\;</p>\n
LOCATION:148 N Federal Hwy Parking Front & Back
UID:e.828.242
SEQUENCE:3
DTSTAMP:20260425T200033Z
URL:http://business.daniabeachchamber.org/events/details/after-hours-networking-sponsor-jimmies-chocolates-cafe-01-26-2012-242
END:VEVENT

END:VCALENDAR
