BEGIN:VCALENDAR
VERSION:2.0
PRODID:-//ChamberMaster//Event Calendar 2.0//EN
METHOD:PUBLISH
X-PUBLISHED-TTL:P3D
REFRESH-INTERVAL:P3D
CALSCALE:GREGORIAN
BEGIN:VEVENT
DTSTART:20111117T223000Z
DTEND:20111118T000000Z
X-MICROSOFT-CDO-ALLDAYEVENT:FALSE
SUMMARY:After Hours Networking Sponsor: THE CREATIVE WORKSHOP
DESCRIPTION:THE CREATIVE  WORKSHOP\n\n	Hot Cars on a Cool Night !\n\n	118  Hill St +  Next to the Post Office\n\n	5:30 - 7:00 pm
X-ALT-DESC;FMTTYPE=text/html:<p style="text-align: center\; margin: 0in 0in 0pt">\n	<strong><span style="color: #0000ff"><span style="font-family: 'arial black'\, 'sans-serif'\; font-size: 10pt">THE CREATIVE&nbsp\; WORKSHOP<br />\n	Hot Cars on a Cool Night !</span></span><br />\n	<span style="font-family: 'arial black'\, 'sans-serif'\; color: black\; font-size: 10pt">118&nbsp\; Hill St +&nbsp\; Next to the Post Office<br />\n	5:30 - 7:00 pm</span></strong><br />\n	&nbsp\;</p>\n
LOCATION:118 Hill St Next to the Post Office
UID:e.828.222
SEQUENCE:3
DTSTAMP:20260425T232108Z
URL:http://business.daniabeachchamber.org/events/details/after-hours-networking-sponsor-the-creative-workshop-11-17-2011-222
END:VEVENT

END:VCALENDAR
