BEGIN:VCALENDAR
VERSION:2.0
PRODID:-//ChamberMaster//Event Calendar 2.0//EN
METHOD:PUBLISH
X-PUBLISHED-TTL:P3D
REFRESH-INTERVAL:P3D
CALSCALE:GREGORIAN
BEGIN:VEVENT
DTSTART;VALUE=DATE:20111204
DTEND;VALUE=DATE:20111207
TRANSP:TRANSPARENT
X-MICROSOFT-CDO-ALLDAYEVENT:TRUE
SUMMARY:ANNUAL AMAC Airports Economic Opportunity and Policy Forum
DESCRIPTION:Attention small business owners.\n\n\n\n If you wish to do business with the Airport industry\, then you do not want to miss the upcoming Airports Opportunity and Policy Forum presented by The Airport Minority Advisory Council (AMAC) and sponsored in part by BCAD - Fort Lauderdale-Hollywood International Airport and the Greater Fort Lauderdale Convention & Visitors Bureau.\n\n\n\nRegistration deadline has been extended. \n\n\n\nMany local Prime Contractors are registered and are seeking sub-contractor services for the upcoming major airport expansion projects!
X-ALT-DESC;FMTTYPE=text/html:<span style="font-size: 12pt"><span style="color: #b22222"><span style="font-family: arial\,sans-serif">Attention small business owners.</span></span><br />\n<br />\n<span style="color: #002069"><span style="font-family: arial\,sans-serif"> If you wish to do business with the Airport industry\, then you do not want to miss the upcoming Airports Opportunity and Policy Forum presented by The Airport Minority Advisory Council (<strong><span style="font-family: arial\,sans-serif">AMAC</span></strong></span>) and sponsored in part by BCAD - Fort Lauderdale-Hollywood International&nbsp\;Airport and the Greater Fort Lauderdale Convention &amp\; Visitors Bureau.<br />\n<br />\nRegistration deadline has been extended. </span><br />\n<br />\n<span style="color: #b22222"><strong>Many local Prime Contractors are registered and are seeking sub-contractor services for the upcoming major airport expansion projects!&nbsp\; </strong></span></span>
LOCATION:Sunday Decemeber 4th - Tuesday December 6th Hilton Fort Lauderdale Marina Hotel 1881 SE 17th St Fort Lauderdale\, FL
UID:e.828.239
SEQUENCE:3
DTSTAMP:20260425T214403Z
URL:http://business.daniabeachchamber.org/events/details/annual-amac-airports-economic-opportunity-and-policy-forum-12-04-2011-239
END:VEVENT

END:VCALENDAR
