BEGIN:VCALENDAR
VERSION:2.0
PRODID:-//ChamberMaster//Event Calendar 2.0//EN
METHOD:PUBLISH
X-PUBLISHED-TTL:P3D
REFRESH-INTERVAL:P3D
CALSCALE:GREGORIAN
BEGIN:VEVENT
DTSTART:20131204T164500Z
DTEND:20131204T183000Z
X-MICROSOFT-CDO-ALLDAYEVENT:FALSE
SUMMARY:Are you Covered?
DESCRIPTION:The Greater Hollywood Chamber of Commerce is inviting members of the Greater Dania Beach Chamber of Commerce to join them at a seminar on "Are you Covered?" with State representative Joe Gibbons discussing applications and implementation of the Affordable Health Care Act .
X-ALT-DESC;FMTTYPE=text/html:<span style="font-family:verdana\;"><span style="font-size: 15px\;">The Greater Hollywood Chamber of Commerce is inviting members of the Greater Dania Beach Chamber of Commerce to join them at a seminar on &ldquo\;Are you Covered?&rdquo\; with State representative Joe Gibbons discussing applications and implementation of the Affordable Health Care Act .</span></span>
LOCATION:The Greater Hollywood Chamber of Commerce 2nd Floor Conference Room 330 North Federal Highway Hollywood\, FL 33020 PLEASE RSVP for This EVENT! Contact: Georgina Scott Email: georgina@hollywoodchamber.org
UID:e.828.917
SEQUENCE:3
DTSTAMP:20260424T063103Z
URL:http://business.daniabeachchamber.org/events/details/are-you-covered-12-04-2013-917
END:VEVENT

END:VCALENDAR
