BEGIN:VCALENDAR
VERSION:2.0
PRODID:-//ChamberMaster//Event Calendar 2.0//EN
METHOD:PUBLISH
X-PUBLISHED-TTL:P3D
REFRESH-INTERVAL:P3D
CALSCALE:GREGORIAN
BEGIN:VEVENT
DTSTART:20170307T223000Z
DTEND:20170308T003000Z
X-MICROSOFT-CDO-ALLDAYEVENT:FALSE
SUMMARY:BAH_Party With A Purpose_Benefiting The Prestige Club
DESCRIPTION:Business After Hours\n\nTuesday March 7\, 2017\n\nIn Partnership with\n\nParty with a Purpose\n\nall proceeds benefit our\n\nmember 501c3 Charity\n\nThe Prestige Club
X-ALT-DESC;FMTTYPE=text/html:<span style="font-size:20px\;"><span style="font-family: verdana\;">Business After Hours<br />\n<span style="color:#0099ff\;">Tuesday March 7\, 2017</span><br />\nIn Partnership with<br />\n<strong><span style="color:#99cc00\;">Party with a Purpose</span></strong><br />\nall proceeds benefit our<br />\nmember 501c3 Charity<br />\n<strong><span style="font-size:24px\;"><span style="color: rgb(102\, 51\, 153)\;">The Prestige Club</span></span></strong></span></span><br />\n<br />\n&nbsp\;
LOCATION:Social Room 1916 Harrison Street Hollywood\, FL 33020
UID:e.828.1140
SEQUENCE:3
DTSTAMP:20260419T131414Z
URL:http://business.daniabeachchamber.org/events/details/bah_party-with-a-purpose_benefiting-the-prestige-club-1140
END:VEVENT

END:VCALENDAR
