BEGIN:VCALENDAR
VERSION:2.0
PRODID:-//ChamberMaster//Event Calendar 2.0//EN
METHOD:PUBLISH
X-PUBLISHED-TTL:P3D
REFRESH-INTERVAL:P3D
CALSCALE:GREGORIAN
BEGIN:VEVENT
DTSTART:20150926T180000Z
DTEND:20150927T010000Z
X-MICROSOFT-CDO-ALLDAYEVENT:FALSE
SUMMARY:Barker Comiconish - Marvel\, DC & More!
DESCRIPTION:Barker Animation in The Village at Gulfstream Park welcomes comic fans of all ages for the first annual Barker Comiconish!\n\n\n\nSaturday\, September 26th: 2:00 pm to 9:00 pm\n\nSunday\, September 27th: 12:00 pm to 7:00 pm\n\n\n\nMeet best-selling MARVEL and Disney Fine Artist Tim Rogerson Saturday\, from 2:00 to 9:00 pm and Sunday\, from 12:00 to 2:00 pm!  Rogerson's artwork will be available at extra special Comiconish pricing and can be hand-embellished and hand-remarqued by Rogerson himself during the event!!!\n\n\n\nDon't forget these additional opportunities during Barker Comiconish:\n\n \n\n	Contests for Best Superhero/Comic\, TV/Movie\, Original\, Family and Child costumes. Grand Prize winner will receive $5\,000 in artwork!\n	Appearances by Minons and Spiderman characters Saturday\, 5-9 pm. Captain America and Iron Man characters Sunday\, 3-7 pm.\n	Free gift for first 100 customers each day.
X-ALT-DESC;FMTTYPE=text/html:<span style="font-size:14px">Barker Animation in The Village at Gulfstream Park welcomes comic fans of all ages for the first annual Barker Comicon<em>ish</em>!<br />\n<br />\n<strong>Saturday\, September 26th: 2:00 pm to 9:00 pm<br />\nSunday\, September 27th: 12:00 pm to 7:00 pm</strong><br />\n<br />\nMeet best-selling MARVEL and Disney Fine Artist Tim Rogerson Saturday\, from 2:00 to 9:00 pm and Sunday\, from 12:00 to 2:00 pm! &nbsp\;Rogerson&#39\;s artwork will be available at extra special Comicon<em>ish</em>&nbsp\;pricing and can be hand-embellished and hand-remarqued by Rogerson himself during the event!!!<br />\n<br />\nDon&#39\;t forget these additional opportunities during Barker Comicon<em>ish</em>:</span><br />\n&nbsp\;\n<ul>\n	<li><span style="font-size:14px">Contests for Best Superhero/Comic\, TV/Movie\, Original\, Family and Child costumes. Grand Prize winner will receive $5\,000 in artwork!</span></li>\n	<li><span style="font-size:14px">Appearances by Minons and Spiderman characters Saturday\, 5-9 pm. Captain America and Iron Man characters Sunday\, 3-7 pm.</span></li>\n	<li><span style="font-size:14px">Free gift for first 100 customers each day.</span></li>\n</ul>\n
LOCATION:Barker Animation Art Gallery in The Village at Gulfstream Park
UID:e.828.1064
SEQUENCE:3
DTSTAMP:20260422T220908Z
URL:http://business.daniabeachchamber.org/events/details/barker-comiconish-marvel-dc-more-09-26-2015-1064
END:VEVENT

END:VCALENDAR
