BEGIN:VCALENDAR
VERSION:2.0
PRODID:-//ChamberMaster//Event Calendar 2.0//EN
METHOD:PUBLISH
X-PUBLISHED-TTL:P3D
REFRESH-INTERVAL:P3D
CALSCALE:GREGORIAN
BEGIN:VEVENT
DTSTART:20110831T213000Z
DTEND:20110901T003000Z
X-MICROSOFT-CDO-ALLDAYEVENT:FALSE
SUMMARY:BIZ EXPO
DESCRIPTION:ACE WASTE\n\n	presents our  8th Annual\n\n	BIZ  EXPO\n\n	  Meet businesses providing the best products\,\n\n	technology\, service\,  shopping\, retail\, food and more!\n\n	Advertising campaign includes newspapers\, e-mail marketing\, social media\, website\, flyers\, direct mail\, banners\, posters\, networking\n\n	FREE Admission.    FREE Parking. \n\n	  Call Today !   954.926.2323
X-ALT-DESC;FMTTYPE=text/html:<p style="text-align: center">\n	<span style="font-size: 18px"><strong>ACE WASTE</strong></span><br />\n	<strong>presents our&nbsp\; 8th Annual</strong></p>\n<p style="text-align: center">\n	<span style="font-size: 26px"><strong>BIZ&nbsp\; EXPO</strong></span></p>\n<p style="text-align: center">\n	<strong><span style="font-size: 14pt"><span style="font-family: helvetica\, sans-serif"><span _fck_bookmark="1" style="display: none">&nbsp\;</span><span _fck_bookmark="1" style="display: none">&nbsp\;</span>Meet businesses providing the best products\,<br />\n	technology\, </span></span></strong><strong><span style="font-size: 14pt"><span style="font-family: helvetica\, sans-serif">service\, &nbsp\;shopping\, retail\, food and&nbsp\;more!</span></span></strong><br />\n	<strong><span style="font-family: arial\, sans-serif"><span style="font-size: medium">Advertising campaign includes newspapers\, e-mail marketing\, social media\, website\, </span></span></strong><strong><span style="font-family: arial\, sans-serif"><span style="font-size: medium">flyers\, direct mail\, banners\, posters\, networking<br />\n	<span style="font-size: 16pt"><span style="font-family: albertus\, sans-serif"><strong><span style="font-family: albertus">FREE Admission. &nbsp\;&nbsp\;&nbsp\;FREE Parking. </span></strong></span></span></span></span></strong><br />\n	<span _fck_bookmark="1" style="display: none">&nbsp\;</span><span _fck_bookmark="1" style="display: none">&nbsp\;</span><span style="font-family: tahoma"><strong><span style="font-size: 16px">Call Today !&nbsp\;&nbsp\; 954.926.2323</span></strong></span></p>\n
LOCATION:Dania Jai Alai 301 E Dania Beach Blvd 2nd Floor Exhibition Hall
UID:e.828.216
SEQUENCE:3
DTSTAMP:20260426T035840Z
URL:http://business.daniabeachchamber.org/events/details/biz-expo-08-31-2011-216
END:VEVENT

END:VCALENDAR
