BEGIN:VCALENDAR
VERSION:2.0
PRODID:-//ChamberMaster//Event Calendar 2.0//EN
METHOD:PUBLISH
X-PUBLISHED-TTL:P3D
REFRESH-INTERVAL:P3D
CALSCALE:GREGORIAN
BEGIN:VEVENT
DTSTART:20110908T114500Z
DTEND:20110909T130000Z
X-MICROSOFT-CDO-ALLDAYEVENT:FALSE
SUMMARY:BREAKFAST NETWORKING at AMO / S.T.A.R. CENTER
DESCRIPTION:BREAKFAST\n\n	Bacon  Bacon  Bacon\n\n	   \n\n	 AMO / S.T.A.R. CENTER\n\n	Join us for an informative breakfast\n\n	with Maritime Professionals
X-ALT-DESC;FMTTYPE=text/html:<p style="text-align: center">\n	<span style="font-size: 14px"><span style="color: #ff0000"><strong><span style="font-size: 16px">BREAKFAST</span><br />\n	Bacon&nbsp\; Bacon&nbsp\; Bacon<br />\n	<span style="font-size: 8px">&nbsp\;&nbsp\;&nbsp\;</span></strong></span><br />\n	<span _fck_bookmark="1" style="display: none">&nbsp\;</span><strong>AMO / S.T.A.R. CENTER<br />\n	Join us for an informative breakfast<br />\n	with Maritime Professionals</strong><br />\n	<span style="color: #ff0000">&nbsp\;</span></span></p>\n
LOCATION:AMO PLANS / S.T.A.R. CENTER 2 W Dixie Highway Parking on South side of Dixie Hwy
UID:e.828.224
SEQUENCE:3
DTSTAMP:20260426T022719Z
URL:http://business.daniabeachchamber.org/events/details/breakfast-networking-at-amo-s-t-a-r-center-09-08-2011-224
END:VEVENT

END:VCALENDAR
