BEGIN:VCALENDAR
VERSION:2.0
PRODID:-//ChamberMaster//Event Calendar 2.0//EN
METHOD:PUBLISH
X-PUBLISHED-TTL:P3D
REFRESH-INTERVAL:P3D
CALSCALE:GREGORIAN
BEGIN:VEVENT
DTSTART:20111215T123000Z
DTEND:20111215T140000Z
X-MICROSOFT-CDO-ALLDAYEVENT:FALSE
SUMMARY:BREAKFAST TOY DRIVE at MEMORIAL REGIONAL HOSPITAL
DESCRIPTION:Annual Holiday Breakfast & Toy Drive \n\n	 Memorial Regional Hospital\n\n	 Miracle on Johnson Street\n\n	A special JDCH associate will share a miracle!\n\n	\n\n	MAIN ENTRANCE\n\n	BRING ID | PARKING VALIDATED
X-ALT-DESC;FMTTYPE=text/html:<p style="text-align: center">\n	<span style="font-size: 14px">&nbsp\;<span style="color: #ff0000"><strong>Annual Holiday Breakfast &amp\; Toy Drive&nbsp\;</strong></span><br />\n	<span _fck_bookmark="1" style="display: none">&nbsp\;</span><strong><span style="color: #006400">Memorial Regional Hospital</span></strong><br />\n	<span style="color: #ff0000">&nbsp\;<strong>Miracle on Johnson Street</strong></span><br />\n	A special JDCH associate will share a miracle!<br />\n	<br />\n	<span style="font-size: 10px">MAIN ENTRANCE<br />\n	BRING ID | PARKING VALIDATED</span></span></p>\n
LOCATION:Memorial Regional Hospital 3501 Johnson St Hollywood 33021
UID:e.828.9
SEQUENCE:3
DTSTAMP:20260425T214350Z
URL:http://business.daniabeachchamber.org/events/details/breakfast-toy-drive-at-memorial-regional-hospital-12-15-2011-9
END:VEVENT

END:VCALENDAR
