BEGIN:VCALENDAR
VERSION:2.0
PRODID:-//ChamberMaster//Event Calendar 2.0//EN
METHOD:PUBLISH
X-PUBLISHED-TTL:P3D
REFRESH-INTERVAL:P3D
CALSCALE:GREGORIAN
BEGIN:VEVENT
DTSTART;VALUE=DATE:20120512
DTEND;VALUE=DATE:20120514
TRANSP:TRANSPARENT
X-MICROSOFT-CDO-ALLDAYEVENT:TRUE
SUMMARY:BROWARD INVITATIONAL EXTRACTION COMPETITION
DESCRIPTION:3rd Annual James Malcolm ALS Competition\n\n	Friday May 11th                      9am - 5 pm\n\n	12 teams of 4 paramedics competing in a simulated multiple patient scenerio\n\n	 \n\n	16th Annual Broward Invitation Extrication Competition\n\n	Saturday May12th  &  Sunday May 13th \n\n	\n\n	Extrication teams from area fire departments will competing using both hand and hydraulic tools in an exciting technical showdown\n\n	\n\n	Held at:\n\n	Bass Pro Shop    west end of the parking lot\n\n	Dania Beach
X-ALT-DESC;FMTTYPE=text/html:<p>\n	<span style="font-size: 16px"><span style="font-family: arial"><span style="color: #b22222"><em><strong>3rd Annual James&nbsp\;Malcolm ALS Competition</strong></em></span><br />\n	Friday May 11th&nbsp\;&nbsp\;&nbsp\;&nbsp\;&nbsp\;&nbsp\;&nbsp\;&nbsp\;&nbsp\;&nbsp\;&nbsp\;&nbsp\;&nbsp\;&nbsp\;&nbsp\;&nbsp\;&nbsp\;&nbsp\;&nbsp\;&nbsp\;&nbsp\;&nbsp\;9am - 5 pm<br />\n	12 teams of&nbsp\;4 paramedics&nbsp\;competing&nbsp\;in a simulated multiple&nbsp\;patient scenerio<br />\n	&nbsp\;<br />\n	<span style="color: #b22222"><em><strong>16th Annual Broward&nbsp\;Invitation Extrication Competition</strong></em></span><br />\n	Saturday May12th&nbsp\; &amp\;&nbsp\;&nbsp\;Sunday May 13th&nbsp\;<br />\n	<br />\n	Extrication teams from area fire departments will&nbsp\;competing using both hand and hydraulic tools in an exciting&nbsp\;technical showdown<br />\n	<br />\n	Held at:<br />\n	Bass Pro Shop&nbsp\;&nbsp\;&nbsp\; west end of the&nbsp\;parking lot<br />\n	Dania Beach</span></span><br />\n	<br />\n	&nbsp\;</p>\n
LOCATION:Bass Pro Shop 200 Gulfstream Way Dania Beach West Parking Lot Spectators Shaded bleacher seating available
UID:e.828.275
SEQUENCE:3
DTSTAMP:20260425T130603Z
URL:http://business.daniabeachchamber.org/events/details/broward-invitational-extraction-competition-05-12-2012-275
END:VEVENT

END:VCALENDAR
