BEGIN:VCALENDAR
VERSION:2.0
PRODID:-//ChamberMaster//Event Calendar 2.0//EN
METHOD:PUBLISH
X-PUBLISHED-TTL:P3D
REFRESH-INTERVAL:P3D
CALSCALE:GREGORIAN
BEGIN:VEVENT
DTSTART:20121129T220000Z
DTEND:20121130T000000Z
X-MICROSOFT-CDO-ALLDAYEVENT:FALSE
SUMMARY:Business After Hours Networker
DESCRIPTION:Business After Hours Networking \n\nThursday Nov 29th \n\n5:00 - 7:00 pm\n\n \n\nPlease join the Dania Beach Chamber  \n\nfor an evening of networking.\n\n  \n\nMembers: $FREE   Future Members: $5\n\nPlease bring a new unwrapped toy.\n\n  \n\nLet us know that you'll be joining us\n\n954-926-2323
X-ALT-DESC;FMTTYPE=text/html:<br />\n<strong><span style="color:red\;"><span style="font-family:arial\,sans-serif\;"><span style="font-size:22.0pt\;">Business After Hours Networking</span></span></span></strong>&nbsp\;<br />\n<span style="font-family:arial\,sans-serif\;"><span style="font-size:24.0pt\;">Thursday Nov 29th&nbsp\;</span></span><br />\n<span style="font-family:arial\,sans-serif\;"><span style="font-size:18.0pt\;">5:00 - 7:00 pm</span></span><br />\n&nbsp\;<br />\n<strong><span style="color:red\;"><span style="font-family:arial\,sans-serif\;"><span style="font-size:16.0pt\;">Please join the Dania Beach Chamber &nbsp\;</span></span></span></strong><br />\n<strong><span style="color:red\;"><span style="font-family:arial\,sans-serif\;"><span style="font-size:16.0pt\;">for an evening of networking.</span></span></span></strong><br />\n&nbsp\;&nbsp\;<br />\n<span style="font-size:16px\;"><strong><span style="font-family: arial\,sans-serif\;">Members: $FREE &nbsp\; Future Members: $5</span></strong><br />\n<em><strong><u><span style="color: red\;"><span style="font-family: arial\,sans-serif\;">Please bring a new unwrapped toy.</span></span></u></strong></em></span><br />\n&nbsp\;&nbsp\;<br />\n<strong><span style="color:black\;"><span style="font-family:arial\,sans-serif\;">Let us know that you&#39\;ll be joining us</span></span></strong><br />\n<strong><span style="color:black\;"><span style="font-family:arial\,sans-serif\;"><span style="font-size:16.0pt\;">954-926-2323</span></span></span></strong>
LOCATION:Soo-Woo Japanese & Korean Steakhouse 5301 Sheridan St Hollywood\, FL 33021
UID:e.828.836
SEQUENCE:3
DTSTAMP:20260425T032425Z
URL:http://business.daniabeachchamber.org/events/details/business-after-hours-networker-11-29-2012-836
END:VEVENT

END:VCALENDAR
