BEGIN:VCALENDAR
VERSION:2.0
PRODID:-//ChamberMaster//Event Calendar 2.0//EN
METHOD:PUBLISH
X-PUBLISHED-TTL:P3D
REFRESH-INTERVAL:P3D
CALSCALE:GREGORIAN
BEGIN:VEVENT
DTSTART:20140312T213000Z
DTEND:20140313T000000Z
X-MICROSOFT-CDO-ALLDAYEVENT:FALSE
SUMMARY:Business EXPO Networker
DESCRIPTION:Business\n\nEXPO\n\nNETWORKER\n\nWednesday March 12th \n\n5:30-8:00 PM \n\nCrowne Plaza Hollywood Beach \n\nJoin us for a fabulous networking opportunity hosted by  Aventura Marketing Council\, along with members of the Miami Association of Realtors and PrimeTime Business Network!
X-ALT-DESC;FMTTYPE=text/html:<strong><span style="color:#3FBF3F\;"><span style="font-family:calibri\,sans-serif\;"><span style="font-size:36.0pt\;">Business</span></span></span></strong><br />\n<strong><span style="color:#3FBF3F\;"><span style="font-family:calibri\,sans-serif\;"><span style="font-size:36.0pt\;">EXPO</span></span></span></strong><br />\n<strong><span style="color:#3FBF3F\;"><span style="font-family:calibri\,sans-serif\;"><span style="font-size:36.0pt\;">NETWORKER</span></span></span></strong><br />\n<span style="color:blue\;"><span style="font-family:calibri\,sans-serif\;"><span style="font-size:24.0pt\;">Wednesday March 12th</span></span></span>&nbsp\;<br />\n<span style="color:blue\;"><span style="font-family:calibri\,sans-serif\;"><span style="font-size:24.0pt\;">5:30-8:00 PM&nbsp\;</span></span></span><br />\n<span style="color:blue\;"><span style="font-family:calibri\,sans-serif\;"><span style="font-size:22.0pt\;">Crowne Plaza Hollywood Beach</span></span></span>&nbsp\;<br />\n<span style="color:black\;"><span style="font-family:calibri\,sans-serif\;"><span style="font-size:18.0pt\;">Join us for a fabulous networking opportunity hosted by&nbsp\; Aventura Marketing Council\, along with members of the Miami Association of Realtors and PrimeTime Business Network!</span></span></span>
LOCATION:Crowne Plaza Hollywood Beach 4000 S Ocean Drive Hollywood\, FL 33019
UID:e.828.983
SEQUENCE:3
DTSTAMP:20260424T013319Z
URL:http://business.daniabeachchamber.org/events/details/business-expo-networker-03-12-2014-983
END:VEVENT

END:VCALENDAR
