BEGIN:VCALENDAR
VERSION:2.0
PRODID:-//ChamberMaster//Event Calendar 2.0//EN
METHOD:PUBLISH
X-PUBLISHED-TTL:P3D
REFRESH-INTERVAL:P3D
CALSCALE:GREGORIAN
BEGIN:VEVENT
DTSTART:20120312T113000Z
DTEND:20120312T130000Z
X-MICROSOFT-CDO-ALLDAYEVENT:FALSE
SUMMARY:BUSINESS FOR BREAKFAST with CONGRESSWOMAN DEBBIE WASSERMAN-SCHULTZ
DESCRIPTION:Join us for our QUARTERLY \n\n	BUSINESS FOR BREAKFAST\n\n	MEETING\n\n	Sponsored by   Florida Power and Light\n\n	Keynote Speakers\n\n	    \n\n	CONGRESSWOMAN \n\n	DEBBIE\n\n	WASSERMAN-SCHULTZ\n\n	 \n\n	FLORIDA REPRESENTATIVE\n\n	EVAN JENNE
X-ALT-DESC;FMTTYPE=text/html:<p style="text-align: center">\n	<span style="font-size: 12px"><span style="font-family: arial"><strong>Join us for our </strong></span></span><span style="font-size: 12px"><span style="font-family: arial"><strong>QUARTERLY&nbsp\;<br />\n	<span style="color: #000080"><span style="font-size: 16px">BUSINESS FOR BREAKFAST</span></span><br />\n	MEETING<br />\n	Sponsored by&nbsp\;&nbsp\; <font style="background-color: #40e0d0">Florida Power and </font></strong></span></span><span style="font-size: 12px"><span style="font-family: arial"><strong><font style="background-color: #40e0d0">Light</font></strong></span></span><br />\n	<span style="font-size: 12px"><span style="font-family: arial"><strong>Keynote</strong></span></span><span style="font-size: 12px"><span style="font-family: arial"><strong> Speakers<br />\n	&nbsp\;&nbsp\;&nbsp\;&nbsp\;<br />\n	<font color="#000080" size="3">CONGRESSWOMAN </font><br />\n	<font size="3">DEBBIE<br />\n	WASSERMAN-SCHULTZ</font><br />\n	<font color="#000080" size="3">&nbsp\;<br />\n	FLORIDA REPRESENTATIVE</font><br />\n	<font size="3">EVAN JENNE</font></strong></span></span></p>\n
LOCATION:Tropical Acres Restaurant 2500 Griffin Road Dania Beach 33312
UID:e.828.260
SEQUENCE:3
DTSTAMP:20260425T163358Z
URL:http://business.daniabeachchamber.org/events/details/business-for-breakfast-with-congresswoman-debbie-wasserman-schultz-03-12-2012-260
END:VEVENT

END:VCALENDAR
