BEGIN:VCALENDAR
VERSION:2.0
PRODID:-//ChamberMaster//Event Calendar 2.0//EN
METHOD:PUBLISH
X-PUBLISHED-TTL:P3D
REFRESH-INTERVAL:P3D
CALSCALE:GREGORIAN
BEGIN:VEVENT
DTSTART:20130402T223000Z
DTEND:20130403T000000Z
X-MICROSOFT-CDO-ALLDAYEVENT:FALSE
SUMMARY:Celebrate The History of Dania Beach
DESCRIPTION:The Friends of the\n\nDania Beach Paul DeMaio Library\n\nCordially Invite You to\n\n\n\nCELEBRATE THE History OF DANIA BEACH\n\n\n\nwith\n\nResident Historian\,\n\nCharles "Mac" McElyea
X-ALT-DESC;FMTTYPE=text/html:The Friends of the<br />\nDania Beach Paul DeMaio Library<br />\nCordially Invite You to<br />\n<br />\nCELEBRATE THE<em> History</em> OF DANIA BEACH<br />\n<br />\nwith<br />\nResident Historian\,<br />\nCharles &ldquo\;Mac&rdquo\; McElyea
LOCATION:At Dania Beach City Hall
UID:e.828.864
SEQUENCE:3
DTSTAMP:20260424T192020Z
URL:http://business.daniabeachchamber.org/events/details/celebrate-the-history-of-dania-beach-04-02-2013-864
END:VEVENT

END:VCALENDAR
