BEGIN:VCALENDAR
VERSION:2.0
PRODID:-//ChamberMaster//Event Calendar 2.0//EN
METHOD:PUBLISH
X-PUBLISHED-TTL:P3D
REFRESH-INTERVAL:P3D
CALSCALE:GREGORIAN
BEGIN:VEVENT
DTSTART:20120223T223000Z
DTEND:20120224T000000Z
X-MICROSOFT-CDO-ALLDAYEVENT:FALSE
SUMMARY:CHAMBER OPEN HOUSE @ DANIA EYE CENTER & BETTER CARE OF BROWARD MEDICAL CENTER
DESCRIPTION:DANIA EYE CENTER\n\n	and \n\n	BETTER CARE OF BROWARD MEDICAL CENTER\n\n	Come and SEE  us!\n\n	5:30 - 7:00 pm\n\n	 \n\n	Gary and Chris Jacobs welcome you to the Dania Eye Center for an Open House BUSINESS NETWORKING\n\n	\n\n	Enter to win a raffle for some wonderful prizes\n\n	\n\n	You may think you are saving money at a chain eye care center\, but find out what you may be missing by visiting Dania Eye Center
X-ALT-DESC;FMTTYPE=text/html:<p style="text-align: center\; margin: 0in 0in 0pt">\n	<strong><span style="font-size: 18px"><span style="color: #0000ff"><span style="font-family: 'arial black'\, 'sans-serif'">DANIA EYE CENTER<br />\n	and&nbsp\;<br />\n	BETTER CARE OF BROWARD MEDICAL CENTER</span></span></span><br />\n	Come and SEE&nbsp\; us!<br />\n	<span style="font-family: 'arial black'\, 'sans-serif'\; color: black\; font-size: 10pt">5:30 - 7:00 pm</span></strong><br />\n	&nbsp\;<br />\n	<span style="font-size: 14px"><strong><span style="color: #b22222">Gary and Chris Jacobs </span>welcome you to the Dania Eye Center for an <span style="color: #b22222">Open House </span>BUSINESS NETWORKING<br />\n	<br />\n	Enter to win a raffle for some wonderful prizes<br />\n	<br />\n	You may think you are saving money at a chain eye care center\, but find out what you may be missing by visiting Dania Eye Center</strong></span></p>\n
LOCATION:599 S Federal Hwy Ample Parking
UID:e.828.243
SEQUENCE:3
DTSTAMP:20260425T182157Z
URL:http://business.daniabeachchamber.org/events/details/chamber-open-house-dania-eye-center-better-care-of-broward-medical-center-02-23-2012-243
END:VEVENT

END:VCALENDAR
