BEGIN:VCALENDAR
VERSION:2.0
PRODID:-//ChamberMaster//Event Calendar 2.0//EN
METHOD:PUBLISH
X-PUBLISHED-TTL:P3D
REFRESH-INTERVAL:P3D
CALSCALE:GREGORIAN
BEGIN:VEVENT
DTSTART;VALUE=DATE:20130628
DTEND;VALUE=DATE:20130630
TRANSP:TRANSPARENT
X-MICROSOFT-CDO-ALLDAYEVENT:TRUE
SUMMARY:Charity Fishing Tournament
DESCRIPTION:Charity Fishing Tournament\n\nWe're looking for a few good Anglers!\n\nWhen: June 28th & 29th \, 2013\n\nCome join us for a day of fishing\, food and fun!\n\n\n\n\n\nBECOME A SPONSOR TODAY! \n\nPrizes will be determined by number of participants.\n\nTo register online or for more information \n\nPlease VISIT OUR WEBSITE\n\nhttp://conferences.stagedrightevents.com/daniabeachchamber/
X-ALT-DESC;FMTTYPE=text/html:<strong><span style="color:#000066\;"><span style="font-family:wickenden cafe ndp\;"><span style="font-size:20.0pt\;">Charity Fishing Tournament</span></span></span></strong><br />\n<strong><em><span style="color:#006600\;"><span style="font-family:wickenden cafe ndp\;"><span style="font-size:16.0pt\;">We&#39\;re looking for a few good Anglers!</span></span></span></em></strong><br />\n<strong><span style="font-family:wickenden cafe ndp\;"><span style="font-size:14.0pt\;">When: June 28th &amp\; 29th \, 2013</span></span></strong><br />\n<strong><em><span style="color:#006600\;"><span style="font-family:wickenden cafe ndp\;"><span style="font-size:14.0pt\;">Come join us for a day of fishing\, food and fun!</span></span></span></em></strong><br />\n<br />\n<br />\n<strong><span style="color:#003399\;"><span style="font-family:wickenden cafe ndp\;"><span style="font-size:14.0pt\;">BECOME A SPONSOR TODAY!</span></span></span></strong>&nbsp\;<br />\n<strong><span style="color:#003399\;"><span style="font-family:wickenden cafe ndp\;"><span style="font-size:14.0pt\;">Prizes will be determined by number of participants.</span></span></span></strong><br />\n<strong><span style="font-family:wickenden cafe ndp\;"><span style="font-size:14.0pt\;">To register online or for more information </span></span></strong><br />\n<strong><span style="font-family:wickenden cafe ndp\;"><span style="font-size:14.0pt\;">Please VISIT OUR WEBSITE</span></span></strong><br />\n<a href="http://conferences.stagedrightevents.com/daniabeachchamber/"><span style="color:#0000ff\;"><span style="font-size: 14pt\;">http://conferences.stagedrightevents.com/daniabeachchamber/</span></span></a>
LOCATION:June 28th Captains' Party 5:30pm at Dania Beach Bar & Grill 65 North Beach Road Dania Beach\, FL 33004 June 29th Tournament: IT Parker Community Center 901 N.E. 3rd Street Dania Beach\, FL 33004
UID:e.828.884
SEQUENCE:3
DTSTAMP:20260424T160037Z
URL:http://business.daniabeachchamber.org/events/details/charity-fishing-tournament-06-28-2013-884
END:VEVENT

END:VCALENDAR
