BEGIN:VCALENDAR
VERSION:2.0
PRODID:-//ChamberMaster//Event Calendar 2.0//EN
METHOD:PUBLISH
X-PUBLISHED-TTL:P3D
REFRESH-INTERVAL:P3D
CALSCALE:GREGORIAN
BEGIN:VEVENT
DTSTART:20120421T140000Z
DTEND:20120421T160000Z
X-MICROSOFT-CDO-ALLDAYEVENT:FALSE
SUMMARY:City of Dania Beach GREEN ADVISORY BOARD Tree Give-Away
DESCRIPTION:The city of Dania Beach GREEN ADVISORY BOARD presents\n\n	\n\n	TREE GIVE-AWAY and GREEN EXPO\n\n	featuring a free tree given to the first 200 Dania Beach residents that attend\n\n	\n\n	On the lawn at City Hall with light refreshments and music along with a mini expo of Green Businesses
X-ALT-DESC;FMTTYPE=text/html:<p>\n	The city of Dania Beach GREEN ADVISORY BOARD presents<br />\n	<br />\n	TREE GIVE-AWAY and GREEN EXPO<br />\n	featuring a free tree given to the first 200 Dania Beach residents that attend<br />\n	<br />\n	On the lawn at City Hall with light refreshments and music along with a mini expo of Green Businesses</p>\n
LOCATION:Dania Beach City Center City Hall 100 West Dania Beach Blvd Dania Beach
UID:e.828.266
SEQUENCE:3
DTSTAMP:20260425T145313Z
URL:http://business.daniabeachchamber.org/events/details/city-of-dania-beach-green-advisory-board-tree-give-away-04-21-2012-266
END:VEVENT

END:VCALENDAR
