BEGIN:VCALENDAR
VERSION:2.0
PRODID:-//ChamberMaster//Event Calendar 2.0//EN
METHOD:PUBLISH
X-PUBLISHED-TTL:P3D
REFRESH-INTERVAL:P3D
CALSCALE:GREGORIAN
BEGIN:VEVENT
DTSTART:20161201T230000Z
DTEND:20161202T010000Z
X-MICROSOFT-CDO-ALLDAYEVENT:FALSE
SUMMARY:City of Dania Beach Holiday Lighting Event
DESCRIPTION:Light Up The Night At The\n\nCity of Dania Beach\n\nTree Lighting Ceremony\n\nPresented by Dania Beach\n\nParks & Recreation\n\nDepartment\n\n\n\nSpecial Guest to Arrive by Fire Truck\n\nChildren's Play Area With Real Snow\n\nLight Refreshments Will Be Served\n\nFree Parking in the City Hall Parking Garage
X-ALT-DESC;FMTTYPE=text/html:<span style="font-size:22px\;"><span style="font-size:26px\;"><span style="color: rgb(0\, 153\, 255)\;">Light Up The Night At The</span></span><br />\n<span style="color:#FF0000\;">City of Dania Beach<br />\nTree Lighting Ceremony</span><br />\n<span style="color:#0099ff\;"><em>Presented by Dania Beach<br />\nParks &amp\; Recreation<br />\nDepartment</em></span><br />\n<br />\n<span style="color:#FF0000\;">Special Guest to Arrive by Fire Truck</span><br />\n<span style="color:#0099ff\;">Children&#39\;s Play Area With Real Snow</span><br />\n<span style="color:#FF0000\;">Light Refreshments Will Be Served</span><br />\n<span style="color:#0099ff\;">Free Parking in the City Hall Parking Garage</span></span>
LOCATION:Dania Beach City Hall 100 W. Dania Beach Blvd Dania Beach\, FL 33004
UID:e.828.1122
SEQUENCE:3
DTSTAMP:20260419T182308Z
URL:http://business.daniabeachchamber.org/events/details/city-of-dania-beach-holiday-lighting-event-1122
END:VEVENT

END:VCALENDAR
