BEGIN:VCALENDAR
VERSION:2.0
PRODID:-//ChamberMaster//Event Calendar 2.0//EN
METHOD:PUBLISH
X-PUBLISHED-TTL:P3D
REFRESH-INTERVAL:P3D
CALSCALE:GREGORIAN
BEGIN:VEVENT
DTSTART:20120407T153000Z
DTEND:20120407T163000Z
X-MICROSOFT-CDO-ALLDAYEVENT:FALSE
SUMMARY:CITY OF DANIA BEACH Spring Celebration
DESCRIPTION:Frost Park Recreational Complex\n\n				300 N.E. 2nd Street\n\n				\n\n				Saturday\, April 7\, 2012\, 11:30 A.M.\n\n				\n\n				\n					EASTER EGG HUNT WILL BEGIN AT NOON\n\n					Ages 2-12\n\n					\n\n					 \n				\n					DJ\n\n					PRIZES FOR THE FINDERS OF THE "SPECIAL EGG"\n\n					\n\n					 \n				\n					Come Meet the Easter Bunny and take pictures\n				\n					 \n				\n					(BRING YOUR OWN CAMERA)\n\n					\n\n					For more information\n\n					Call:954-924-3690 or 954-924-3638
X-ALT-DESC;FMTTYPE=text/html:<table cellpadding="6" width="100%">\n	<tbody>\n		<tr>\n			<td>\n				<span style="font-size: 14px"><span style="font-family: tte3b814a8t00"><span style="font-family: tte3b814a8t00"><span class="Headline">Frost Park Recreational Complex</span><br />\n				<span class="Headline">300 N.E. 2nd Street</span><br />\n				<br />\n				<span class="Headline">Saturday\, April 7\, 2012\, </span><span class="Headline">11:30 A.M.</span></span></span></span><br />\n				<br />\n				<p align="left">\n					<span style="font-size: 14px"><span style="font-family: tte3b814a8t00"><span style="font-family: tte3b814a8t00"><span class="Headline">EASTER EGG HUNT </span><span class="Headline">WILL BEGIN AT NOON</span><br />\n					<span class="Headline">Ages 2-12</span></span></span><br />\n					<br />\n					&nbsp\;</span></p>\n				<p align="left">\n					<span style="font-size: 14px"><span style="font-family: tte3b814a8t00"><span style="font-family: tte3b814a8t00"><span class="Headline">DJ</span><br />\n					<span class="Headline">PRIZES FOR THE FINDERS OF </span><span class="Headline">THE &ldquo\;SPECIAL EGG&rdquo\;</span></span></span><br />\n					<br />\n					&nbsp\;</span></p>\n				<p align="left">\n					<span style="font-size: 14px"><span style="font-family: tte3b814a8t00"><span style="font-family: tte3b814a8t00"><span class="Headline">Come Meet the Easter Bunny </span><span class="Headline">and take pictures</span></span></span></span></p>\n				<p align="left">\n					<span style="font-size: 14px">&nbsp\;</span></p>\n				<p align="left">\n					<span style="font-size: 14px"><span style="font-family: tte3b814a8t00">(BRING YOUR OWN CAMERA)</span><br />\n					<br />\n					<span style="font-family: tte3b814a8t00">For more information<br />\n					Call:954-924-3690 or 954-924-3638</span></span></p>\n			</td>\n			<td>\n				<span style="font-size: 14px">&nbsp\;</span></td>\n		</tr>\n	</tbody>\n</table>\n
LOCATION:Frost Park Recreation Complex 300 NE 2nd Street Dania Beach
UID:e.828.265
SEQUENCE:3
DTSTAMP:20260425T145027Z
URL:http://business.daniabeachchamber.org/events/details/city-of-dania-beach-spring-celebration-04-07-2012-265
END:VEVENT

END:VCALENDAR
