BEGIN:VCALENDAR
VERSION:2.0
PRODID:-//ChamberMaster//Event Calendar 2.0//EN
METHOD:PUBLISH
X-PUBLISHED-TTL:P3D
REFRESH-INTERVAL:P3D
CALSCALE:GREGORIAN
BEGIN:VEVENT
DTSTART:20130922T200000Z
DTEND:20130922T230000Z
X-MICROSOFT-CDO-ALLDAYEVENT:FALSE
SUMMARY:CONCERT - BRIAN BURNS On Tour - Sun 9/22
DESCRIPTION:BENEFIT  CONCERT for\n\n	FRIENDS of the LIBRARY  \n\n	SUNDAY  -  SEP 22  -  4-7pm\n\n	\n\n	BRIAN  BURNS\n\n	Texas Musician - Singer - Songwriter & Storyteller\n\n	 ---  \n\n	Tickets & Info  -  954-923-3645\n\n	$10 Donation includes Membership to\n\n	Friends of the Library right here\n\n	at the Paul DeMaio Library.  Kids 12 & Under Free.\n\n	---\n\n	Enjoy the day with Live Music on the lawn at City Center at\n\n	Dania Beach City Hall next to the fountain.\n\n	Relax in your lawn chair & breathe some fresh air!\n\n	\n\n	FREE parking in the garage.  Arts / Craft Vendors.\n\n	\n\n	Sorry no pets  ~~~  Bring your lawn chair \n\n	Tickets & Info 954-923-3645\n                                                                                                   ---\n\n\,\,
X-ALT-DESC;FMTTYPE=text/html:<div style="text-align: center\;">\n	<span style="font-size:16px\;"><span style="font-family:comic sans ms\;"><strong>BENEFIT &nbsp\;CONCERT for<br />\n	FRIENDS of the LIBRARY &nbsp\;<br />\n	SUNDAY &nbsp\;- &nbsp\;SEP 22 &nbsp\;- &nbsp\;4-7pm</strong></span></span><br />\n	<br />\n	<strong><span style="font-size:16px\;"><span style="font-size:18px\;">BRIAN &nbsp\;BURNS</span><br />\n	Texas Musician - Singer - Songwriter &amp\; Storyteller</span></strong><br />\n	&nbsp\;--- &nbsp\;<br />\n	<span style="font-size:14px\;">Tickets &amp\; Info &nbsp\;- &nbsp\;954-923-3645<br />\n	$10 Donation includes Membership to<br />\n	Friends of the Library right here<br />\n	at the Paul DeMaio Library. &nbsp\;Kids 12 &amp\; Under Free.</span><br />\n	<span style="font-size:14px\;">---<br />\n	Enjoy the day with Live Music on the lawn at City Center at<br />\n	Dania Beach City Hall&nbsp\;next to the fountain.<br />\n	Relax in your lawn chair &amp\; breathe some fresh air!<br />\n	<br />\n	FREE parking in the garage. &nbsp\;Arts / Craft Vendors.<br />\n	<br />\n	Sorry no pets &nbsp\;~~~ &nbsp\;Bring your lawn chair&nbsp\;<br />\n	Tickets &amp\; Info 954-923-3645</span></div>\n&nbsp\; &nbsp\; &nbsp\; &nbsp\; &nbsp\; &nbsp\; &nbsp\; &nbsp\; &nbsp\; &nbsp\; &nbsp\; &nbsp\; &nbsp\; &nbsp\; &nbsp\; &nbsp\; &nbsp\; &nbsp\; &nbsp\; &nbsp\; &nbsp\; &nbsp\; &nbsp\; &nbsp\; &nbsp\; &nbsp\; &nbsp\; &nbsp\; &nbsp\; &nbsp\; &nbsp\; &nbsp\; &nbsp\; &nbsp\; &nbsp\; &nbsp\; &nbsp\; &nbsp\; &nbsp\; &nbsp\; &nbsp\; &nbsp\; &nbsp\; &nbsp\; &nbsp\; &nbsp\; &nbsp\; &nbsp\; &nbsp\; &nbsp\;---<br />\n\,\,<br />\n<br />\n
LOCATION:DOWNTOWN DANIA BEACH
UID:e.828.900
SEQUENCE:3
DTSTAMP:20260424T111139Z
URL:http://business.daniabeachchamber.org/events/details/concert-brian-burns-on-tour-sun-9-22-09-22-2013-900
END:VEVENT

END:VCALENDAR
