BEGIN:VCALENDAR
VERSION:2.0
PRODID:-//ChamberMaster//Event Calendar 2.0//EN
METHOD:PUBLISH
X-PUBLISHED-TTL:P3D
REFRESH-INTERVAL:P3D
CALSCALE:GREGORIAN
BEGIN:VEVENT
DTSTART:20120204T190000Z
DTEND:20120204T220000Z
X-MICROSOFT-CDO-ALLDAYEVENT:FALSE
SUMMARY:CONCERT on the GREEN - 2-5 PM - DAVE CAMP BAND
DESCRIPTION:Sponsored by MARDI GRAS CASINO \n\n		 -  DAVE CAMP BAND\n\n		Dave Camp's energetic musical style was influenced by Georgetown clubs in Washington D.C. from the late 60 s thru the early 70 s\, a fertile musicalground while in high school.\n\n		He migrated to California\, where he joined the Big City Blues Band. He was then recruited by legendary Mississippi blues shouter\, Roy Brown\, who touted Dave's Hammond organ style in many famous L.A. clubs\, including sold out shows at the Whiskey A Go Go.   \n\n		 \n	\n		Saturday    Feb 5    2-5 pm     \n		\n		\n	\n	\n		 \n\n		At the Nyberg-Swanson House House \n	\n		Corner of NW 1 Ave & W Dania Beach Blvd   -   on the lawn\n\n		 \n	\n		 \n\n		Across from Vintage\, Art Shops & New Library\n\n		Bring your lawn chair\n\n		Rain cancels. \n\n		\n\n		954.926.2323\n\n		  CONCERT ON THE GREEN  | a  series of outdoor concerts presenting a diverse musical repertoire on the grounds of the historic NYBERG-SWANSON house  in the Arts & Antique district of Dania Beach.\n	\n		Join us first Saturday of each month through April 2012. Bring your lawn chair and enjoy a FREE performance on the lawn under a beautiful banyan tree. Live music\, food\, arts and crafts\, fresh air and friends in Dania Beach.\n	\n\n	102 W Dania Beach Blvd\n\n	plenty of FREE parking in the new parking garage next to city hall
X-ALT-DESC;FMTTYPE=text/html:<div align="left">\n	<p style="line-height: normal\; margin: 0in 0in 0pt">\n		<span style="font-size: 16px"><strong><span style="font-family: 'trebuchet ms'\, 'sans-serif'"><span style="font-family: arial black\, avant garde">Sponsored by MARDI GRAS CASINO&nbsp\;<br />\n		&nbsp\;-&nbsp\; DAVE CAMP BAND<br />\n		<span style="font-size: 14px"><span style="font-family: calibri\, sans-serif">Dave Camp&rsquo\;s energetic musical style was influenced by Georgetown clubs in Washington D.C. from the late 60</span><span style="font-family: arial\, sans-serif">&prime\;</span><span style="font-family: calibri\, sans-serif">s thru the early 70</span><span style="font-family: arial\, sans-serif">&prime\;</span><span style="font-family: calibri\, sans-serif">s\, a fertile musical</span><span style="font-family: calibri\, sans-serif">ground while in high school.</span><br />\n		<span style="font-family: times new roman"><span style="font-family: calibri\, sans-serif">He migrated to California\, where he joined the Big City Blues Band. He was then recruited by legendary Mississippi blues shouter\, Roy Brown\, who touted Dave&rsquo\;s Hammond organ style in many famous L.A. clubs\, including sold out shows at the Whiskey A Go Go.</span></span>&nbsp\;&nbsp\;&nbsp\;</span></span></span></strong></span><br />\n		&nbsp\;</p>\n	<div style="border-bottom: windowtext 1pt solid\; border-left: medium none\; padding-bottom: 1pt\; padding-left: 0in\; padding-right: 0in\; border-top: medium none\; border-right: medium none\; padding-top: 0in">\n		<strong><span style="font-family: 'trebuchet ms'\, 'sans-serif'\; font-size: 10pt"><span style="font-family: arial black\, avant garde"><span style="font-family: arial black\, avant garde"><strong><span style="font-size: 16px">Saturday&nbsp\;&nbsp\; &nbsp\;Feb 5&nbsp\;&nbsp\; &nbsp\;2-5 pm</span>&nbsp\;</strong></span>&nbsp\;&nbsp\;&nbsp\;&nbsp\;</span></span></strong>\n		<hr />\n		<hr />\n	</div>\n	<p style="line-height: normal\; margin: 0in 0in 0pt">\n		<strong><span style="font-family: 'trebuchet ms'\, 'sans-serif'\; font-size: 10pt"><span style="font-family: arial black\, avant garde">&nbsp\;<br />\n		<span style="font-family: berlin sans fb demi\, sans-serif">At the Nyberg-Swanson House House&nbsp\;</span></span></span></strong></p>\n	<div style="border-bottom: windowtext 1pt solid\; border-left: medium none\; padding-bottom: 1pt\; padding-left: 0in\; padding-right: 0in\; border-top: medium none\; border-right: medium none\; padding-top: 0in">\n		<strong><span style="font-family: 'trebuchet ms'\, 'sans-serif'\; font-size: 10pt"><span style="font-family: arial black\, avant garde"><span style="font-family: berlin sans fb demi\, sans-serif">Corner of NW 1 Ave &amp\; W Dania Beach Blvd &nbsp\;&nbsp\;<em>- &nbsp\;&nbsp\;on the lawn</em></span><br />\n		&nbsp\;</span></span></strong></div>\n	<p style="line-height: normal\; margin: 0in 0in 0pt">\n		<strong><span style="font-family: 'trebuchet ms'\, 'sans-serif'\; font-size: 10pt"><span style="font-family: arial black\, avant garde">&nbsp\;<br />\n		<span style="font-size: 14pt"><span style="font-family: berlin sans fb demi\, sans-serif">Across from Vintage\, Art Shops &amp\; New Library</span></span><br />\n		<strong><u><span style="font-size: 14pt"><span style="font-family: comic sans ms">Bring your lawn chair</span></span></u></strong><br />\n		<span style="font-family: comic sans ms">Rain cancels.&nbsp\;</span><br />\n		<br />\n		<span style="font-size: 14pt"><span style="font-family: comic sans ms">954.926.2323</span></span><br />\n		<span _fck_bookmark="1" style="display: none">&nbsp\;</span><span _fck_bookmark="1" style="display: none">&nbsp\;</span>CONCERT ON THE GREEN<span _fck_bookmark="1" style="display: none">&nbsp\;</span></span></span><span style="font-family: 'trebuchet ms'\, 'sans-serif'\; font-size: 10pt"><span style="font-family: arial black\, avant garde">&nbsp\;</span></span></strong><span style="font-family: 'trebuchet ms'\, 'sans-serif'\; font-size: 10pt"><span style="font-family: arial black\, avant garde">| <span style="font-family: arial\, helvetica\, sans-serif\; font-size: 9pt"><strong>a &nbsp\;series of outdoor concerts presenting a diverse musical repertoire&nbsp\;on the grounds of the historic NYBERG-SWANSON house &nbsp\;in the Arts &amp\; Antique district of Dania Beach.</strong></span></span></span></p>\n	<p style="line-height: normal\; margin: 0in 0in 0pt">\n		<span style="font-family: 'trebuchet ms'\, 'sans-serif'\; font-size: 9pt">Join us </span><strong><span style="font-family: 'trebuchet ms'\, 'sans-serif'\; font-size: 9pt"><span style="font-family: arial black\, avant garde">first Saturday of&nbsp\;each month</span> </span></strong><span style="font-family: 'trebuchet ms'\, 'sans-serif'\; font-size: 9pt">through April 2012. Bring your lawn chair and enjoy a </span><span style="font-family: 'trebuchet ms'\, 'sans-serif'\; font-size: 9pt"><strong>FREE</strong></span><span style="font-family: 'trebuchet ms'\, 'sans-serif'\; font-size: 9pt"> performance on the lawn under a beautiful&nbsp\;banyan tree. Live music\, food\, arts and crafts\, fresh air and friends in Dania Beach.</span></p>\n	<br />\n	<span style="font-size: 14px"><span style="font-family: arial black\, avant garde"><strong>102 W Dania Beach Blvd</strong></span></span><br />\n	<span style="font-size: 14px">plenty of FREE parking in the new parking garage next to city hall</span></div>\n<div align="left">\n	<br />\n	<span style="font-family: arial black\, avant garde\; font-size: 12pt"><span style="font-size: 8pt">&nbsp\;</span></span></div>\n&nbsp\;
LOCATION:On the lawn of the historic NYBERG-SWANSON House 102 W Dania Beach Blvd Dania Beach 33004 1 block west of US-1 on Dania Beach Blvd
UID:e.828.252
SEQUENCE:3
DTSTAMP:20260425T181752Z
URL:http://business.daniabeachchamber.org/events/details/concert-on-the-green-2-5-pm-dave-camp-band-02-04-2012-252
END:VEVENT

END:VCALENDAR
