BEGIN:VCALENDAR
VERSION:2.0
PRODID:-//ChamberMaster//Event Calendar 2.0//EN
METHOD:PUBLISH
X-PUBLISHED-TTL:P3D
REFRESH-INTERVAL:P3D
CALSCALE:GREGORIAN
BEGIN:VEVENT
DTSTART:20111112T190000Z
DTEND:20111112T220000Z
X-MICROSOFT-CDO-ALLDAYEVENT:FALSE
SUMMARY:CONCERT on the GREEN - 2-5 PM - LIVE MUSIC
DESCRIPTION:Join us for Live Music\, Food & Vendors the First Saturday of each month!\n\n		(except Nov on the 12th)\n\n		       \n	\n		 \n\n		At the Nyberg-Swanson House House \n\n		 \n	\n		Corner of NW 1 Ave & W Dania Beach Blvd   -   on the lawn\n\n		 \n	\n		 \n\n		Across from Vintage\, Art Shops & New Library\n\n		Bring your lawn chair\n\n		Rain cancels. \n\n		Sorry\, no pets on property\n\n		 \n\n		954.926.2323\n\n		  CONCERT ON THE GREEN  | a  series of outdoor concerts presenting a diverse musical repertoire on the grounds of the historic NYBERG-SWANSON house  in the Arts & Antique district of Dania Beach.\n	\n		Join us first Saturday of each month through April 2012. Bring your lawn chair and enjoy a FREE performance on the lawn under a beautiful banyan tree. Live music\, food\, arts and crafts\, fresh air and friends in Dania Beach.\n	\n\n	Saturday  NOVEMBER  12   2-5 p.m.     102 W Dania Beach Blvd\n\n	plenty of FREE parking in the new parking garage next to city hall
X-ALT-DESC;FMTTYPE=text/html:<div align="left">\n	<p style="line-height: normal\; margin: 0in 0in 0pt">\n		<strong><span style="font-family: 'trebuchet ms'\, 'sans-serif'\; font-size: 10pt"><span style="font-family: arial black\, avant garde">&nbsp\;</span></span></strong></p>\n	<div style="border-bottom: windowtext 1pt solid\; border-left: medium none\; padding-bottom: 1pt\; padding-left: 0in\; padding-right: 0in\; border-top: medium none\; border-right: medium none\; padding-top: 0in">\n		<strong><span style="font-family: 'trebuchet ms'\, 'sans-serif'\; font-size: 10pt"><span style="font-family: arial black\, avant garde"><em><span style="font-size: 16pt"><span style="font-family: berlin sans fb demi\, sans-serif"><span _fck_bookmark="1" style="display: none">&nbsp\;</span>Join us for Live Music\, Food &amp\; Vendors the First Saturday of each month!</span></span></em><br />\n		<em><span style="font-size: 16pt"><span style="font-family: berlin sans fb demi\, sans-serif">(except Nov on the 12<sup>th</sup>)</span></span></em><br />\n		&nbsp\;&nbsp\;&nbsp\;&nbsp\;&nbsp\;&nbsp\;&nbsp\;</span></span></strong></div>\n	<p style="line-height: normal\; margin: 0in 0in 0pt">\n		<strong><span style="font-family: 'trebuchet ms'\, 'sans-serif'\; font-size: 10pt"><span style="font-family: arial black\, avant garde">&nbsp\;<br />\n		<span style="font-family: berlin sans fb demi\, sans-serif">At the Nyberg-Swanson House House&nbsp\;</span></span></span></strong><br />\n		&nbsp\;</p>\n	<div style="border-bottom: windowtext 1pt solid\; border-left: medium none\; padding-bottom: 1pt\; padding-left: 0in\; padding-right: 0in\; border-top: medium none\; border-right: medium none\; padding-top: 0in">\n		<strong><span style="font-family: 'trebuchet ms'\, 'sans-serif'\; font-size: 10pt"><span style="font-family: arial black\, avant garde"><span style="font-family: berlin sans fb demi\, sans-serif">Corner of NW 1 Ave &amp\; W Dania Beach Blvd &nbsp\;&nbsp\;<em>- &nbsp\;&nbsp\;on the lawn</em></span><br />\n		&nbsp\;</span></span></strong></div>\n	<p style="line-height: normal\; margin: 0in 0in 0pt">\n		<strong><span style="font-family: 'trebuchet ms'\, 'sans-serif'\; font-size: 10pt"><span style="font-family: arial black\, avant garde">&nbsp\;<br />\n		<span style="font-size: 14pt"><span style="font-family: berlin sans fb demi\, sans-serif">Across from Vintage\, Art Shops &amp\; New Library</span></span><br />\n		<strong><u><span style="font-size: 14pt"><span style="font-family: comic sans ms">Bring your lawn chair</span></span></u></strong><br />\n		<span style="font-family: comic sans ms">Rain cancels. </span><br />\n		<span style="font-family: comic sans ms">Sorry\, no pets on property</span><br />\n		&nbsp\;<br />\n		<span style="font-size: 14pt"><span style="font-family: comic sans ms">954.926.2323</span></span><br />\n		<span _fck_bookmark="1" style="display: none">&nbsp\;</span><span _fck_bookmark="1" style="display: none">&nbsp\;</span>CONCERT ON THE GREEN<span _fck_bookmark="1" style="display: none">&nbsp\;</span></span></span><span style="font-family: 'trebuchet ms'\, 'sans-serif'\; font-size: 10pt"><span style="font-family: arial black\, avant garde">&nbsp\;</span></span></strong><span style="font-family: 'trebuchet ms'\, 'sans-serif'\; font-size: 10pt"><span style="font-family: arial black\, avant garde">| <span style="font-family: arial\, helvetica\, sans-serif\; font-size: 9pt"><strong>a &nbsp\;series of outdoor concerts presenting a diverse musical repertoire&nbsp\;on the grounds of the historic NYBERG-SWANSON house &nbsp\;in the Arts &amp\; Antique district of Dania Beach.</strong></span></span></span></p>\n	<p style="line-height: normal\; margin: 0in 0in 0pt">\n		<span style="font-family: 'trebuchet ms'\, 'sans-serif'\; font-size: 9pt">Join us </span><strong><span style="font-family: 'trebuchet ms'\, 'sans-serif'\; font-size: 9pt"><span style="font-family: arial black\, avant garde">first Saturday of&nbsp\;each month</span> </span></strong><span style="font-family: 'trebuchet ms'\, 'sans-serif'\; font-size: 9pt">through April 2012. Bring your lawn chair and enjoy a </span><span style="font-family: 'trebuchet ms'\, 'sans-serif'\; font-size: 9pt"><strong>FREE</strong></span><span style="font-family: 'trebuchet ms'\, 'sans-serif'\; font-size: 9pt"> performance on the lawn under a beautiful&nbsp\;banyan tree. Live music\, food\, arts and crafts\, fresh air and friends in Dania Beach.</span></p>\n	<br />\n	<span style="font-family: arial black\, avant garde"><strong>Saturday&nbsp\;&nbsp\;NOVEMBER&nbsp\; 12 &nbsp\; 2-5 p.m.&nbsp\;&nbsp\;&nbsp\;&nbsp\; 102 W Dania Beach Blvd</strong></span><br />\n	plenty of FREE parking in the new parking garage next to city hall</div>\n<div align="left">\n	<br />\n	<span style="font-family: arial black\, avant garde\; font-size: 12pt"><span style="font-size: 8pt">&nbsp\;</span></span></div>\n&nbsp\;
LOCATION:On the lawn of the historic NYBERG-SWANSON House 102 W Dania Beach Blvd Dania Beach 33004 1 block west of US-1 on Dania Beach Blvd
UID:e.828.238
SEQUENCE:3
DTSTAMP:20260425T233339Z
URL:http://business.daniabeachchamber.org/events/details/concert-on-the-green-2-5-pm-live-music-11-12-2011-238
END:VEVENT

END:VCALENDAR
