BEGIN:VCALENDAR
VERSION:2.0
PRODID:-//ChamberMaster//Event Calendar 2.0//EN
METHOD:PUBLISH
X-PUBLISHED-TTL:P3D
REFRESH-INTERVAL:P3D
CALSCALE:GREGORIAN
BEGIN:VEVENT
DTSTART:20120303T190000Z
DTEND:20120303T220000Z
X-MICROSOFT-CDO-ALLDAYEVENT:FALSE
SUMMARY:CONCERT ON THE GREEN sponsored by CAHOOTS
DESCRIPTION:SPIDER JOHN KOERNER'S musical career has taken him to stages throughout North America and Europe. He has entertained MANY and influenced several generations of musicians. His songs are recorded and performed by others\, including Bonnie Rait-- I Ain't Blue.\n\n\n\nJohn Koerner appears often as guest on Garrison Keillor's Prairie Home Companion\, most recently appearing on November 15\, 2008. He has also been guest artist on National Public Radio's Morning Edition and Weekend Edition.\n\n\n\nIn the '70s\, John Koerner also ventured into film making\, and a commentary on how some folks were feeling in the '60s called The Secret Of Sleep was produced. He also discovered a passion for astronomy\, which continues to this day. He has built and reconstructed telescopes in New England\, Minnesota\, Mexico\, Arizona\, and Zimbabwe\, lectured at colleges\, and presented "Spider John's Space Shows". He is also interested in wooden boat building and sail design and has completed construction of an 18 ft. cat boat\, which he sails on the Minnesota lakes.
X-ALT-DESC;FMTTYPE=text/html:<span style="font-size: 14px">&nbsp\;<u><strong><span style="color: #330000"><span style="font-family: calibri\, sans-serif">SPIDER JOHN KOERNER&rsquo\;S </span></span></strong></u><span style="color: #330000"><span style="font-family: calibri\, sans-serif">musical career has taken him to stages throughout North America and Europe. He has entertained MANY and influenced several generations of musicians. His songs are recorded and performed by others\, including <a href="http://www.bonnieraitt.com/">Bonnie Rait</a>-- <strong><em>I Ain&rsquo\;t Blue</em></strong>.</span></span><br />\n<br />\n<span style="color: #330000"><span style="font-family: calibri\, sans-serif"><u><strong>John Koerner </strong></u>appears often as guest on Garrison Keillor&rsquo\;s <strong><em>Prairie Home Companion\,</em></strong> most recently appearing on November 15\, 2008. He has also been guest artist on National Public Radio&rsquo\;s <strong><em>Morning Edition</em></strong> and <strong><em>Weekend Edition.</em></strong></span></span><br />\n<br />\n<span style="color: #330000"><span style="font-family: calibri\, sans-serif">In the &#39\;70s\, <u><strong>John Koerner </strong></u>also ventured into film making\, and a commentary on how some folks were feeling in the &#39\;60s called <strong><em>The Secret Of Sleep</em></strong> was produced. He also discovered a passion for astronomy\, which continues to this day. He has built and reconstructed telescopes in New England\, Minnesota\, Mexico\, Arizona\, and Zimbabwe\, lectured at colleges\, and presented &quot\;Spider John&#39\;s Space Shows&quot\;. He is also interested in wooden boat building and sail design and has completed construction of an 18 ft. cat boat\, which he sails on the Minnesota lakes.</span></span></span><br />\n
LOCATION:Downtown Dania Beach @ Dania Beach Blvd and NW 1st Ave On the lawn of the historic Nyberg-Swanson House under the sprawling banyon tree. We're gonna have fun !
UID:e.828.248
SEQUENCE:3
DTSTAMP:20260425T163255Z
URL:http://business.daniabeachchamber.org/events/details/concert-on-the-green-sponsored-by-cahoots-03-03-2012-248
END:VEVENT

END:VCALENDAR
