BEGIN:VCALENDAR
VERSION:2.0
PRODID:-//ChamberMaster//Event Calendar 2.0//EN
METHOD:PUBLISH
X-PUBLISHED-TTL:P3D
REFRESH-INTERVAL:P3D
CALSCALE:GREGORIAN
BEGIN:VEVENT
DTSTART:20150321T140000Z
DTEND:20150322T230000Z
X-MICROSOFT-CDO-ALLDAYEVENT:FALSE
SUMMARY:Dania Beach Arts and Seafood Celebration
DESCRIPTION:The Dania Beach Arts & Seafood Celebration is back for it's third annual fun in the sun. Come out to this award winning celebration and enjoy family\, friends\, live music\, fine arts and crafts\, a Wine Garden\, sand sculpting and much more. Admission is free.
X-ALT-DESC;FMTTYPE=text/html:The Dania Beach Arts &amp\; Seafood Celebration is back for it&#39\;s third annual fun in the sun. Come out to this award winning celebration and enjoy family\, friends\, live music\, fine arts and crafts\, a Wine Garden\, sand sculpting and much more. Admission is free.
LOCATION:300 NE 2nd Street\, Dania Beach\, FL 33004
UID:e.828.1020
SEQUENCE:3
DTSTAMP:20260423T064549Z
URL:http://business.daniabeachchamber.org/events/details/dania-beach-arts-and-seafood-celebration-03-21-2015-1020
END:VEVENT

END:VCALENDAR
