BEGIN:VCALENDAR
VERSION:2.0
PRODID:-//ChamberMaster//Event Calendar 2.0//EN
METHOD:PUBLISH
X-PUBLISHED-TTL:P3D
REFRESH-INTERVAL:P3D
CALSCALE:GREGORIAN
BEGIN:VEVENT
DTSTART:20160402T150000Z
DTEND:20160404T000000Z
X-MICROSOFT-CDO-ALLDAYEVENT:FALSE
SUMMARY:Dania Beach Arts and Seafood Celebration
DESCRIPTION:The Dania Beach Community Redevelopment Agency (DBCRA) proudly presents the 4th Annual\, Award Winning\, Dania Beach Arts & Seafood Celebration. Join us on Saturday\, April 2nd\, 11 AM to 8 PM and Sunday\, April 3rd\, 2016 from 11 AM to 7 PM for our FREE event featuring live music\, performance art\, juried fine art vendors\, family activities and seafood galore.
X-ALT-DESC;FMTTYPE=text/html:The Dania Beach Community Redevelopment Agency (DBCRA) proudly presents the 4th Annual\, Award Winning\, Dania Beach Arts &amp\; Seafood Celebration. Join us on Saturday\, April 2nd\, 11 AM to 8 PM and Sunday\, April 3rd\, 2016 from 11 AM to 7 PM for our FREE event featuring live music\, performance art\, juried fine art vendors\, family activities and seafood galore.
LOCATION:Frost Park 300 NE 2nd Street\, Dania Beach\, FL 33004
UID:e.828.1094
SEQUENCE:3
DTSTAMP:20260420T073145Z
URL:http://business.daniabeachchamber.org/events/details/dania-beach-arts-and-seafood-celebration-04-02-2016-1094
END:VEVENT

END:VCALENDAR
