BEGIN:VCALENDAR
VERSION:2.0
PRODID:-//ChamberMaster//Event Calendar 2.0//EN
METHOD:PUBLISH
X-PUBLISHED-TTL:P3D
REFRESH-INTERVAL:P3D
CALSCALE:GREGORIAN
BEGIN:VEVENT
DTSTART;VALUE=DATE:20130406
DTEND;VALUE=DATE:20130408
TRANSP:TRANSPARENT
X-MICROSOFT-CDO-ALLDAYEVENT:TRUE
SUMMARY:Dania Beach Arts and Seafood Celebration
DESCRIPTION:Call to Artists:   Fine Arts and Crafts Show as the main attraction of this Community event sponsored by the Dania Beach CRA and slated to become a signature event for the City and especially the Downtown Arts and Antique District.   Entertainment\, Children's Activities\, Community Organization booths also.\n\n	\n\n	www.daniabeachartsandseafoodcelebration.com
X-ALT-DESC;FMTTYPE=text/html:<p>\n	<span style="font-size:14px\;"><span style="font-family: verdana\;">Call to Artists:&nbsp\;&nbsp\; Fine Arts and Crafts Show as the main attraction of this Community event sponsored by the Dania Beach CRA and slated to become a signature event for the City and especially the Downtown Arts and Antique District.&nbsp\;&nbsp\; Entertainment\, Children&#39\;s Activities\, Community Organization booths also.<br />\n	<br />\n	www.daniabeachartsandseafoodcelebration.com</span></span><br />\n	&nbsp\;</p>\n
LOCATION:Frost Park
UID:e.828.841
SEQUENCE:3
DTSTAMP:20260424T191743Z
URL:http://business.daniabeachchamber.org/events/details/dania-beach-arts-and-seafood-celebration-04-06-2013-841
END:VEVENT

END:VCALENDAR
