BEGIN:VCALENDAR
VERSION:2.0
PRODID:-//ChamberMaster//Event Calendar 2.0//EN
METHOD:PUBLISH
X-PUBLISHED-TTL:P3D
REFRESH-INTERVAL:P3D
CALSCALE:GREGORIAN
BEGIN:VEVENT
DTSTART:20140329T140000Z
DTEND:20140330T230000Z
X-MICROSOFT-CDO-ALLDAYEVENT:FALSE
SUMMARY:Dania Beach Arts & Seafood Celebration 2014
DESCRIPTION:The Dania Beach Arts & Seafood Celebration is Back for it's Second Annual Fun in the Sun! Enjoy Family and Friends\, Live Music\, Fine Arts and Crafts\,a New Wine Garden and Much More. Admission is Free.
X-ALT-DESC;FMTTYPE=text/html:The Dania Beach Arts &amp\; Seafood Celebration is Back for it&#39\;s Second Annual Fun in the Sun! Enjoy Family and Friends\, Live Music\, Fine Arts and Crafts\,a New Wine Garden and Much More. Admission is Free. 
LOCATION:Frost Park 300 NE 2nd Ave Dania Beach\, FL 33004
UID:e.828.916
SEQUENCE:3
DTSTAMP:20260424T014223Z
URL:http://business.daniabeachchamber.org/events/details/dania-beach-arts-seafood-celebration-2014-03-29-2014-916
END:VEVENT

END:VCALENDAR
