BEGIN:VCALENDAR
VERSION:2.0
PRODID:-//ChamberMaster//Event Calendar 2.0//EN
METHOD:PUBLISH
X-PUBLISHED-TTL:P3D
REFRESH-INTERVAL:P3D
CALSCALE:GREGORIAN
BEGIN:VEVENT
DTSTART:20170325T110000Z
DTEND:20170325T190000Z
X-MICROSOFT-CDO-ALLDAYEVENT:FALSE
SUMMARY:Dania Beach Chamber & Dania Beach Lions Club Charity Golf Tournament
DESCRIPTION:SAVE THE DATE!\n\nDania Beach Chamber & Dania Beach Lions Club \n\nCharity Golf Tournament\n\nSaturday March 25\, 2017\n\n\n\nwill be held at the  \n\nOrangebrook Golf  \n\nand Country Club.   \n\n \n\nThis event will feature breakfast\, lunch\, awards\, raffles\, and much more.   \n\n \n\nIf you have any questions or are interested in learning about sponsorship opportunities\, please contact Randie Shane\, Dania Beach Chamber's Executive Director at 954.926.2323. On behalf of the Dania Beach Lions Club and The Greater Dania Beach Chamber of Commerce and our member charities and families they serve\, thank you for your support!
X-ALT-DESC;FMTTYPE=text/html:<strong><span style="color:#112116\;"><span style="font-family:verdana\,sans-serif\;">SAVE THE DATE!</span></span><br />\n<span style="font-size:14px\;">Dania Beach Chamber &amp\; Dania Beach Lions Club </span></strong><br />\n<strong><span style="color:#112116\;"><span style="font-family:verdana\,sans-serif\;">Charity Golf Tournament<br />\nSaturday March 25\, 2017</span></span></strong><br />\n<br />\n<strong><span style="color:#112116\;"><span style="font-family:verdana\,sans-serif\;">will be held at the &nbsp\;</span></span></strong><br />\n<strong><span style="color:#112116\;"><span style="font-family:verdana\,sans-serif\;">Orangebrook Golf &nbsp\;</span></span></strong><br />\n<strong><span style="color:#112116\;"><span style="font-family:verdana\,sans-serif\;">and Country Club.&nbsp\;&nbsp\;&nbsp\;</span></span></strong><br />\n&nbsp\;<br />\n<span style="color:#112116\;"><span style="font-family:verdana\,sans-serif\;"><strong>This event will feature breakfast\, lunch\, awards\, raffles\, and much more.</strong>&nbsp\;&nbsp\; </span></span><br />\n&nbsp\;<br />\n<span style="color:#112116\;"><span style="font-family:verdana\,sans-serif\;">If you have any questions or are interested in learning about sponsorship opportunities\, please contact Randie Shane\, Dania Beach Chamber&#39\;s Executive Director at 954.926.2323. On behalf of the Dania Beach Lions Club and The Greater Dania Beach Chamber of Commerce and our member charities and families they serve\, thank you for your support!</span></span>
LOCATION:Orangebrook Golf & Country Club 400 Entrada Drive Hollywood\, FL 33021
UID:e.828.1115
SEQUENCE:3
DTSTAMP:20260419T131801Z
URL:http://business.daniabeachchamber.org/events/details/dania-beach-chamber-dania-beach-lions-club-charity-golf-tournament-1115
END:VEVENT

END:VCALENDAR
