BEGIN:VCALENDAR
VERSION:2.0
PRODID:-//ChamberMaster//Event Calendar 2.0//EN
METHOD:PUBLISH
X-PUBLISHED-TTL:P3D
REFRESH-INTERVAL:P3D
CALSCALE:GREGORIAN
BEGIN:VEVENT
DTSTART:20151106T170000Z
DTEND:20151106T183000Z
X-MICROSOFT-CDO-ALLDAYEVENT:FALSE
SUMMARY:Dania Beach Chamber Membership Luncheon Honoring Joseph Dorsey
DESCRIPTION:Please Join Us\n\nin Honoring Joseph Dorsey\n\n"Exceptional Community Service for the past 30 Years!"
X-ALT-DESC;FMTTYPE=text/html:<span style="font-size:18px\;"><span style="font-family: verdana\;">Please Join Us<br />\nin Honoring Joseph Dorsey<br />\n<span style="font-size:16px\;">&quot\;Exceptional Community Service for the past 30 Years!&quot\;</span></span></span><br />\n&nbsp\;
LOCATION:Signature Grand 6900 State Road 84 Davie\, FL 33317
UID:e.828.1060
SEQUENCE:3
DTSTAMP:20260422T191122Z
URL:http://business.daniabeachchamber.org/events/details/dania-beach-chamber-membership-luncheon-honoring-joseph-dorsey-11-06-2015-1060
END:VEVENT

END:VCALENDAR
