BEGIN:VCALENDAR
VERSION:2.0
PRODID:-//ChamberMaster//Event Calendar 2.0//EN
METHOD:PUBLISH
X-PUBLISHED-TTL:P3D
REFRESH-INTERVAL:P3D
CALSCALE:GREGORIAN
BEGIN:VEVENT
DTSTART:20140127T130000Z
DTEND:20140127T200000Z
X-MICROSOFT-CDO-ALLDAYEVENT:FALSE
SUMMARY:Dania Beach Chamber of Commerce Charity Golf-A-Thon
DESCRIPTION:The Dania Beach Chamber   \n\nCharity Golf-A-Thon is on\n\nMonday\, January 27\, 2014\n\nand will be held at the  \n\nFort Lauderdale Golf  \n\nand Country Club.   \n\n \n\nDifferent idea with the same goal in mind! Raise funds for some great causes!\n\n  \n\nYou can play as individual or team. Golfers can play as little as 18 holes or as many as 36 holes. \n\n \n\nThis event will feature breakfast\, lunch\, awards\, raffles\, and much more.   \n\n \n\nDeadline for Registration\n\nMonday January 20th  2014\n\n \n\nThis year a portion of all funds raised will benefit various 501-C3 non-profits including:\n\nAmerican Heart Association\n\nPrestige Club of Broward\n\nLeukemia & Lymphoma Society\n\nFriends of the Dania Beach Paul DeMaio Library\n\n  \n\nFor Registration  \n\nand more information  \n\nGo to our Tournament Website: \n\nhttp://daniabeachgolf.com/\n\n \n\nIf you have any questions or are interested in learning about sponsorship opportunities\, please contact Randie Shane\, Dania Beach Chamber's Executive Director at 954.926.2323. On behalf of the Greater Dania Beach Chamber of Commerce and our member charities and families they serve\, thank you for your support!
X-ALT-DESC;FMTTYPE=text/html:<strong><span style="color:#112116\;"><span style="font-family:verdana\,sans-serif\;">The Dania Beach Chamber&nbsp\; &nbsp\;</span></span></strong><br />\n<strong><span style="color:#112116\;"><span style="font-family:verdana\,sans-serif\;">Charity Golf-A-Thon is on<br />\nMonday\, January 27\, 2014</span></span></strong><br />\n<strong><span style="color:#112116\;"><span style="font-family:verdana\,sans-serif\;">and will be held at the &nbsp\;</span></span></strong><br />\n<strong><span style="color:#112116\;"><span style="font-family:verdana\,sans-serif\;">Fort Lauderdale Golf &nbsp\;</span></span></strong><br />\n<strong><span style="color:#112116\;"><span style="font-family:verdana\,sans-serif\;">and Country Club.&nbsp\;&nbsp\;&nbsp\;</span></span></strong><br />\n&nbsp\;<br />\n<span style="color:#112116\;"><span style="font-family:verdana\,sans-serif\;">Different idea with the same goal in mind! Raise funds for some great causes!</span></span><br />\n&nbsp\;&nbsp\;<br />\n<span style="color:#112116\;"><span style="font-family:verdana\,sans-serif\;">You can play as individual or team. Golfers can play as little as 18 holes or as many as 36 holes. </span></span><br />\n&nbsp\;<br />\n<span style="color:#112116\;"><span style="font-family:verdana\,sans-serif\;">This event will feature breakfast\, lunch\, awards\, raffles\, and much more.&nbsp\; &nbsp\;</span></span><br />\n&nbsp\;<br />\n<strong><span style="color:#112116\;"><span style="font-family:verdana\,sans-serif\;">Deadline for Registration</span></span></strong><br />\n<strong><span style="color:#112116\;"><span style="font-family:verdana\,sans-serif\;">Monday January 20th&nbsp\; 2014</span></span></strong><br />\n&nbsp\;<br />\n<span style="color:#112116\;"><span style="font-family:verdana\,sans-serif\;">This year a portion of all funds raised will benefit various 501-C3 non-profits including:</span></span><br />\n<strong><em><span style="color:#112116\;"><span style="font-family:verdana\,sans-serif\;">American Heart Association</span></span></em></strong><br />\n<strong><em><span style="color:#112116\;"><span style="font-family:verdana\,sans-serif\;">Prestige Club of Broward<br />\nLeukemia &amp\; Lymphoma Society<br />\nFriends of the Dania Beach Paul DeMaio Library</span></span></em></strong><br />\n&nbsp\;&nbsp\;<br />\n<strong><span style="color:#112116\;"><span style="font-family:verdana\,sans-serif\;">For Registration &nbsp\;</span></span></strong><br />\n<strong><span style="color:#112116\;"><span style="font-family:verdana\,sans-serif\;">and more information &nbsp\;</span></span></strong><br />\n<strong><span style="color:#112116\;"><span style="font-family:verdana\,sans-serif\;">Go to our Tournament Website:&nbsp\;</span></span></strong><br />\n<span style="font-size:14px\;"><span style="font-size:16px\;"><span style="font-family: verdana\,sans-serif\;"><a href="http://daniabeachgolf.com/" shape="rect" target="_blank"><span style="color:#0000cd\;">http://daniabeachgolf.com/</span></a></span></span></span><br />\n&nbsp\;<br />\n<span style="color:#112116\;"><span style="font-family:verdana\,sans-serif\;">If you have any questions or are interested in learning about sponsorship opportunities\, please contact Randie Shane\, Dania Beach Chamber&#39\;s Executive Director at 954.926.2323. On behalf of the Greater Dania Beach Chamber of Commerce and our member charities and families they serve\, thank you for your support!</span></span>
LOCATION:Fort Lauderdale Country Club 415 E Country Club Cir FL 33317 Fort Lauderdale\, FL (954) 587-4700
UID:e.828.915
SEQUENCE:3
DTSTAMP:20260424T045712Z
URL:http://business.daniabeachchamber.org/events/details/dania-beach-chamber-of-commerce-charity-golf-a-thon-01-27-2014-915
END:VEVENT

END:VCALENDAR
