BEGIN:VCALENDAR
VERSION:2.0
PRODID:-//ChamberMaster//Event Calendar 2.0//EN
METHOD:PUBLISH
X-PUBLISHED-TTL:P3D
REFRESH-INTERVAL:P3D
CALSCALE:GREGORIAN
BEGIN:VEVENT
DTSTART:20131219T164500Z
DTEND:20131219T180000Z
X-MICROSOFT-CDO-ALLDAYEVENT:FALSE
SUMMARY:Dania Beach Chamber's Quarterly Chamber Lunch Hosted By: Memorial Regional
DESCRIPTION:Normal\n  0\n  \n  \n  \n  \n  false\n  false\n  false\n  \n  EN-US\n  X-NONE\n  X-NONE\n  \n   \n   \n   \n   \n   \n   \n   \n   \n   \n   \n   \n  \n  MicrosoftInternetExplorer4\n  \n   \n   \n   \n   \n   \n   \n   \n   \n   \n   \n   \n  \n\n\n	 Please Join us for Lunch \n\n	\n\n	Keynote Speaker: Dr. Frank Scholl\, Director of Pediatric Cardiac Surgery at JDCH . Dr. Scholl will be speaking on an Overview of the Cardiac Center at Joe DiMaggio Children's Hospital\n\n	Dr. Scholl came to Joe DiMaggio Children's Hospital in 2006 from Monroe Carell Jr. Children's Hospital at Vanderbilt University Medical Center. \n\n	Under Dr. Scholl's direction\, the Cardiac Center at Joe DiMaggio Children's Hospital has seen significant growth in volume and complexity of cases. According to The Society of Thoracic Surgeons\, the multidisciplinary team is caring for more acute conditions and has reduced mortality rates to among the lowest in the nation.\n\n	Dr. Scholl's research interests include the repair of congenital heart defects and tissue regeneration using autologous tissue. He was invited to present research on Decellularized Porcine Extracellular Matrix Scaffold\, Human Applications in Congenital Heart Surgery at the International Symposium on Congenital Cardiac Surgery in Japan and the Fifth World Congress of Pediatric Cardiology and Cardiac Surgery in Australia.\n\n	We will be honoring BSO Deputy of the Quarter.\n\n	\n\n	In the spirit of giving during the holiday season\, we are asking you to donate a new\, unwrapped toy to our Holiday Toy Drive.
X-ALT-DESC;FMTTYPE=text/html:<!--[if gte mso 9]><xml>\n <w:WordDocument>\n  <w:View>Normal</w:View>\n  <w:Zoom>0</w:Zoom>\n  <w:TrackMoves/>\n  <w:TrackFormatting/>\n  <w:PunctuationKerning/>\n  <w:ValidateAgainstSchemas/>\n  <w:SaveIfXMLInvalid>false</w:SaveIfXMLInvalid>\n  <w:IgnoreMixedContent>false</w:IgnoreMixedContent>\n  <w:AlwaysShowPlaceholderText>false</w:AlwaysShowPlaceholderText>\n  <w:DoNotPromoteQF/>\n  <w:LidThemeOther>EN-US</w:LidThemeOther>\n  <w:LidThemeAsian>X-NONE</w:LidThemeAsian>\n  <w:LidThemeComplexScript>X-NONE</w:LidThemeComplexScript>\n  <w:Compatibility>\n   <w:BreakWrappedTables/>\n   <w:SnapToGridInCell/>\n   <w:WrapTextWithPunct/>\n   <w:UseAsianBreakRules/>\n   <w:DontGrowAutofit/>\n   <w:SplitPgBreakAndParaMark/>\n   <w:DontVertAlignCellWithSp/>\n   <w:DontBreakConstrainedForcedTables/>\n   <w:DontVertAlignInTxbx/>\n   <w:Word11KerningPairs/>\n   <w:CachedColBalance/>\n  </w:Compatibility>\n  <w:BrowserLevel>MicrosoftInternetExplorer4</w:BrowserLevel>\n  <m:mathPr>\n   <m:mathFont m:val="Cambria Math"/>\n   <m:brkBin m:val="before"/>\n   <m:brkBinSub m:val="&#45\;-"/>\n   <m:smallFrac m:val="off"/>\n   <m:dispDef/>\n   <m:lMargin m:val="0"/>\n   <m:rMargin m:val="0"/>\n   <m:defJc m:val="centerGroup"/>\n   <m:wrapIndent m:val="1440"/>\n   <m:intLim m:val="subSup"/>\n   <m:naryLim m:val="undOvr"/>\n  </m:mathPr></w:WordDocument>\n</xml><![endif]-->\n<p class="MsoNormal">\n	<span style="font-size:22px\;"><span style="color: rgb(128\, 0\, 0)\;"><var><b><span style="font-family: &quot\;Constantia&quot\;\,&quot\;serif&quot\;\;"><span id="cke_bm_122S" style="display: none\;">&nbsp\;</span>Please Join us for Lunch</span></b></var></span></span><span id="cke_bm_122E" style="display: none\;">&nbsp\;</span><br />\n	<br />\n	<span style="color:#800000\;"><span style="font-size: 22px\;"><var><b><span style="font-family: &quot\;Constantia&quot\;\,&quot\;serif&quot\;\;">Keynote Speaker: </span></b><span style="font-family: &quot\;Constantia&quot\;\,&quot\;serif&quot\;\;"><span style="font-family: times new roman\;"><span style="color: rgb(31\, 73\, 125)\;">Dr. Frank Scholl\, Director of Pediatric Cardiac Surgery at JDCH . <span style="color: rgb(31\, 73\, 125)\;">Dr. Scholl will be speaking on an </span></span></span></span></var></span><span style="font-size:22px\;"><var><span style="font-family: &quot\;Constantia&quot\;\,&quot\;serif&quot\;\;"><span style="color: rgb(31\, 73\, 125)\;"><span style="color: rgb(31\, 73\, 125)\;"><span style="color: rgb(31\, 73\, 125)\;"><span style="font-family: cambria\,serif\;">Overview of the Cardiac Center at Joe DiMaggio Children&rsquo\;s Hospital</span></span></span></span></span></var></span></span></p>\n<p class="ft_trebuchet size12 c-gray">\n	<span style="font-family:arial\;"><span style="font-size: 16px\;">Dr. Scholl came to Joe DiMaggio Children&rsquo\;s Hospital in 2006 from Monroe Carell Jr. Children&rsquo\;s Hospital at Vanderbilt University Medical Center. </span></span></p>\n<p class="ft_trebuchet size12 c-gray">\n	<span style="font-family:arial\;"><span style="font-size: 16px\;">Under Dr. Scholl&rsquo\;s direction\, the Cardiac Center at Joe DiMaggio Children&rsquo\;s Hospital has seen significant growth in volume and complexity of cases. According to The Society of Thoracic Surgeons\, the multidisciplinary team is caring for more acute conditions and has reduced mortality rates to among the lowest in the nation.</span></span></p>\n<p class="ft_trebuchet size12 c-gray">\n	<span style="font-family:arial\;"><span style="font-size: 16px\;">Dr. Scholl&rsquo\;s research interests include the repair of congenital heart defects and tissue regeneration using autologous tissue. He was invited to present research on Decellularized Porcine Extracellular Matrix Scaffold\, Human Applications in Congenital Heart Surgery at the International Symposium on Congenital Cardiac Surgery in Japan and the Fifth World Congress of Pediatric Cardiology and Cardiac Surgery in Australia.</span></span></p>\n<p class="MsoNormal">\n	<span style="color:#800000\;"><span style="font-size: 22px\;"><var><b><span style="font-family: &quot\;Constantia&quot\;\,&quot\;serif&quot\;\;">We will be honoring <span><span>BSO</span></span> Deputy of the Quarter.</span></b></var></span><br />\n	<br />\n	<span style="font-size:18px\;">In the spirit of giving during the holiday season\, we are asking you to donate a new\, unwrapped toy to our Holiday Toy Drive.</span></span><br />\n	&nbsp\;</p>\n
LOCATION:Memorial Regional Hospital (Main Auditorium) 3501 Johnson Street Hollywood\, FL 33021
UID:e.828.908
SEQUENCE:3
DTSTAMP:20260424T063210Z
URL:http://business.daniabeachchamber.org/events/details/dania-beach-chamber-s-quarterly-chamber-lunch-hosted-by-memorial-regional-12-19-2013-908
END:VEVENT

END:VCALENDAR
