BEGIN:VCALENDAR
VERSION:2.0
PRODID:-//ChamberMaster//Event Calendar 2.0//EN
METHOD:PUBLISH
X-PUBLISHED-TTL:P3D
REFRESH-INTERVAL:P3D
CALSCALE:GREGORIAN
BEGIN:VEVENT
DTSTART:20120128T150000Z
DTEND:20120128T220000Z
X-MICROSOFT-CDO-ALLDAYEVENT:FALSE
SUMMARY:Dania Beach Vintage Bike Show
DESCRIPTION:More than 230 vintage motorcycles will be showcased in Frost Park (300 N.E. 2nd Street\, Dania Beach)\, an array that includes European\, Japanese\, American and English models in classes ranging from competition\, scooter\, rat\, bobber\, chopper and caf  racer. This year's event also will feature a display of military bikes from all over the world.\n\n	In addition to the vintage bicycles under the trees\, there will be riding shows by the Independent Motorcycle Skill Team next to the park on Fronton Boulevard\, live music\, food vendors and demonstrations of skateboarding skills in the new skateboard park. Another type of fun on wheels will be demonstrated by the Gold Coast Roller Derby Grrls.
X-ALT-DESC;FMTTYPE=text/html:<p>\n	<strong><span style="font-size: 14px">More than 230 vintage motorcycles will be showcased in Frost Park (300 N.E. 2nd Street\, Dania Beach)\, an array that includes European\, Japanese\, American and English models in classes ranging from competition\, scooter\, rat\, bobber\, chopper and caf&eacute\; racer. This year&#39\;s event also will feature a display of military bikes from all over the world.</span></strong></p>\n<p>\n	<strong><span style="font-size: 14px">In addition to the vintage bicycles under the trees\, there will be riding shows by the Independent Motorcycle Skill Team next to the park on Fronton Boulevard\, live music\, food vendors and demonstrations of skateboarding skills in the new skateboard park. Another type of fun on wheels will be demonstrated by the Gold Coast Roller Derby Grrls.</span></strong></p>\n
LOCATION:CITY OF DANIA BEACH FROST PARK 300 NE 2nd Street Dania Beach 33004 west of Dania Jai Alai
UID:e.828.245
SEQUENCE:3
DTSTAMP:20260425T200602Z
URL:http://business.daniabeachchamber.org/events/details/dania-beach-vintage-bike-show-01-28-2012-245
END:VEVENT

END:VCALENDAR
