BEGIN:VCALENDAR
VERSION:2.0
PRODID:-//ChamberMaster//Event Calendar 2.0//EN
METHOD:PUBLISH
X-PUBLISHED-TTL:P3D
REFRESH-INTERVAL:P3D
CALSCALE:GREGORIAN
BEGIN:VEVENT
DTSTART:20120412T220000Z
DTEND:20120412T230000Z
X-MICROSOFT-CDO-ALLDAYEVENT:FALSE
SUMMARY:DANIA BEACH WATERFRONT REVITALIZATION PLAN WORKSHOP
DESCRIPTION:The City of Dania Beach has been awarded a grant in the amount of $30\,000 from the Florida Department of Environmental Protection's Coastal Partnership Initiative.\n\n\n\nThe City will provide matching funds in the amount of $80\,000\, for a total project cost of $110\,000.\n\n\n\nThe Community Development Department will work with the consultant that is selected to develop a Waterfront Revitalization Plan for the rehabilitation and enhancement of the City's waterfront.\n\n\n\nThe project location is the easternmost portion of Dania Beach\, situated between John U. Lloyd State Park to the north and the City of Hollywood to the south.\n\n\n\nThe project includes the City of Dania Beach's public beach and accompanying facilities including a vegetated beach dune\, a parking lot with lighting and landscaping\, restroom facilities and a pier with a restaurant.
X-ALT-DESC;FMTTYPE=text/html:<span style="font-size: 11px"><span style="text-align: left\; font-family: arial\, sans-serif">The <strong>City of Dania Beach </strong>has been awarded a grant in the amount of $30\,000 from the Florida Department of Environmental Protection&rsquo\;s Coastal Partnership Initiative.<br />\n<br />\nThe City will provide matching funds in the amount of $80\,000\, for a total project cost of $110\,000.<br />\n<br />\nThe <strong>Community Development Department </strong>will work with the consultant that is selected to develop a Waterfront Revitalization Plan for the rehabilitation and enhancement of the City&rsquo\;s waterfront.<br />\n<br />\nThe project location is the easternmost portion of Dania Beach\, situated between John U. Lloyd State Park to the north and the City of Hollywood to the south.<br />\n<br />\nThe project includes the City of Dania Beach&rsquo\;s public beach and accompanying facilities including a vegetated beach dune\, a parking lot with lighting and landscaping\, restroom facilities and a pier with a restaurant.</span></span><br />\n
LOCATION:I.T. Parker Community Center 901 NE 3rd Street Dania Beach Harbour Towne Marina
UID:e.828.263
SEQUENCE:3
DTSTAMP:20260425T144753Z
URL:http://business.daniabeachchamber.org/events/details/dania-beach-waterfront-revitalization-plan-workshop-04-12-2012-263
END:VEVENT

END:VCALENDAR
