BEGIN:VCALENDAR
VERSION:2.0
PRODID:-//ChamberMaster//Event Calendar 2.0//EN
METHOD:PUBLISH
X-PUBLISHED-TTL:P3D
REFRESH-INTERVAL:P3D
CALSCALE:GREGORIAN
BEGIN:VEVENT
DTSTART:20150602T203000Z
DTEND:20150602T223000Z
X-MICROSOFT-CDO-ALLDAYEVENT:FALSE
SUMMARY:Dania Ready_Hurricane PrepareAthon
DESCRIPTION:www.daniaready.com\n\n \n\nShop for  Hurricane Preparedness Supplies   Learn about  Pre and Post Storm Services   Sign up for Emergency Updates   Join CERT   Attend Lectures   Meet Max Mayfield    Support Local Business   Enter a FREE Drawing for Prizes\n\n\n\nSchedule of Events \n\n     4: 30   6:30   Visit Vendors and NETWORKING!\n\n     5:30   6:00    Max Mayfield
X-ALT-DESC;FMTTYPE=text/html:<strong><span style="color:#008080\;"><span style="font-size: 20px\;">www.daniaready.com</span></span></strong><br />\n&nbsp\;<br />\n<span style="language:en-US\;"><span style="font-family:calibri\;"><span style="font-size:12.0pt\;">Shop for&nbsp\; Hurricane Preparedness Supplies </span></span><span style="color:#24ABA2\;"><span style="font-family:wingdings\;"><span style="font-size:12.0pt\;">&diams\;</span></span></span><span style="font-family:calibri\;"><span style="font-size:12.0pt\;"> Learn about&nbsp\; Pre and Post Storm Services </span></span><span style="color:#24ABA2\;"><span style="font-family:wingdings\;"><span style="font-size:12.0pt\;">&diams\;</span></span></span><span style="font-family:calibri\;"><span style="font-size:12.0pt\;"> Sign up for Emergency Updates </span></span><span style="color:#24ABA2\;"><span style="font-family:wingdings\;"><span style="font-size:12.0pt\;">&diams\;</span></span></span></span> <span style="language:en-US\;"><span style="font-family:calibri\;"><span style="font-size:12.0pt\;">Join CERT </span></span><span style="color:#24ABA2\;"><span style="font-family:wingdings\;"><span style="font-size:12.0pt\;">&diams\;</span></span></span><span style="font-family:calibri\;"><span style="font-size:12.0pt\;"> Attend Lectures </span></span><span style="color:#24ABA2\;"><span style="font-family:wingdings\;"><span style="font-size:12.0pt\;">&diams\;</span></span></span><span style="font-family:calibri\;"><span style="font-size:12.0pt\;"> Meet Max Mayfield </span></span><span style="color:#24ABA2\;"><span style="font-family:wingdings\;"><span style="font-size:12.0pt\;">&diams\;</span></span></span></span>&nbsp\; <span style="language:en-US\;"><span style="font-family:calibri\;"><span style="font-size:12.0pt\;">Support Local Business </span></span><span style="color:#24ABA2\;"><span style="font-family:wingdings\;"><span style="font-size:12.0pt\;">&diams\;</span></span></span></span> <span style="language:en-US\;"><span style="font-family:calibri\;"><span style="font-size:12.0pt\;">Enter a </span></span></span><span style="font-weight:bold\;language:en-US\;"><span style="font-family:calibri\;"><span style="font-size:12.0pt\;">FREE</span></span></span><span style="language:en-US\;"><span style="font-family:calibri\;"><span style="font-size:12.0pt\;"> Drawing for Prizes</span></span></span><br />\n<br />\n<span style="color:#008080\;"><span style="text-decoration: underline\; font-weight: bold\;"><span style="font-family: calibri\;"><span style="font-size: 16pt\;">Schedule of Events </span></span></span></span><br />\n<span style="font-weight:bold\;language:en-US\;"><span style="font-family:calibri\;">&nbsp\;&nbsp\;&nbsp\;&nbsp\; 4: 30 &mdash\; 6:30 &nbsp\; Visit Vendors and NETWORKING!</span></span><br />\n<span style="font-weight:bold\;language:en-US\;"><span style="font-family:calibri\;">&nbsp\;&nbsp\;&nbsp\;&nbsp\; 5:30 &mdash\; 6:00&nbsp\; &nbsp\; Max Mayfield</span></span><br />\n<span style="font-weight:bold\;language:en-US\;"><span style="font-family:calibri\;">&nbsp\;&nbsp\;&nbsp\;&nbsp\; </span></span>
LOCATION:Dania Beach City Hall 100 W Dania Beach Blvd. Dania Beach\, FL 33004
UID:e.828.1051
SEQUENCE:3
DTSTAMP:20260423T023515Z
URL:http://business.daniabeachchamber.org/events/details/dania-ready_hurricane-prepareathon-06-02-2015-1051
END:VEVENT

END:VCALENDAR
