BEGIN:VCALENDAR
VERSION:2.0
PRODID:-//ChamberMaster//Event Calendar 2.0//EN
METHOD:PUBLISH
X-PUBLISHED-TTL:P3D
REFRESH-INTERVAL:P3D
CALSCALE:GREGORIAN
BEGIN:VEVENT
DTSTART;VALUE=DATE:20130621
DTEND;VALUE=DATE:20130624
TRANSP:TRANSPARENT
X-MICROSOFT-CDO-ALLDAYEVENT:TRUE
SUMMARY:Design Fair at the Gallery of Amazing Things
DESCRIPTION:Visitors to Design Fair at Gallery of Amazing Things will have the rare experience of viewing one the finest and most elusive of Leonardo da Vinci's sculptured masterpieces to be publically offered for sale this century.\n\n	Inspired by da Vinci who is considered the father of design\, Design Fair\, which is scheduled for June 21 -23 in Dania Beach\, will be a weekend of discovery like no other organizers said.\n\n	"We invite the public to see and purchase impressive collections of contemporary art\, estate jewelry\, watches\, vintage Louis Vuitton trunks sculpture\, natural history\, antiques\, posh lighting\, furniture\, home d cor and much more all with an emphasis on great design\," said Arron Rimpley of The Gallery of Amazing Things.\n\n	\n\n	50-million-year-old fossil murals\, maritime artifacts\, aviart\, antique ceramics\, high porcelain\, monumental crystals from the caves of South America\, World War II naval binoculars are among the other wonders from around the world that will be on display.\n\n	The highlight of Design Fair will be the unveiling of a limited edition bronze sculpture derived from a rare wax model carved by the engineer of the Italian Renaissance\, Leonardo da Vinci.\n\n	\n\n	"In the chronicles of world history\, few names command the worldwide recognition\, respect\, and awe as inventor\, architect\, astronomer\, scientist and artist Leonardo da Vinci\," said Gregg Whittecar of The Gallery of Amazing Things. "Recent exhibitions of da Vinci's work have caused an international groundswell of interest in Leonardo's sculptural works."\n\n	\n\n	Da Vinci's "Horse and Rider" was originally inherited by Leonardo's star pupil\, Francesco Metzi. The sculpture languished in a Swiss vault until 1985 when it was inspected by the greatest Leonardo da Vinci expert in the world\, Professor Carlo Pedretti\, best known as the Armand Hammer Director of Leonardo Studies at the University of California in Los Angeles. Upon extensive examination of the sculpture model\, Professor Pedrettie stated in writing: "In my opinion\, this wax model is by Leonardo himself."
X-ALT-DESC;FMTTYPE=text/html:<style type="text/css">\n<!--\n /* Font Definitions */\n@font-face\n	{font-family:"&#65325\;&#65331\; &#26126\;&#26397\;"\;\n	panose-1:0 0 0 0 0 0 0 0 0 0\;\n	mso-font-charset:128\;\n	mso-generic-font-family:roman\;\n	mso-font-format:other\;\n	mso-font-pitch:fixed\;\n	mso-font-signature:1 134676480 16 0 131072 0\;}\n@font-face\n	{font-family:"&#65325\;&#65331\; &#26126\;&#26397\;"\;\n	panose-1:0 0 0 0 0 0 0 0 0 0\;\n	mso-font-charset:128\;\n	mso-generic-font-family:roman\;\n	mso-font-format:other\;\n	mso-font-pitch:fixed\;\n	mso-font-signature:1 134676480 16 0 131072 0\;}\n@font-face\n	{font-family:Cambria\;\n	panose-1:2 4 5 3 5 4 6 3 2 4\;\n	mso-font-charset:0\;\n	mso-generic-font-family:auto\;\n	mso-font-pitch:variable\;\n	mso-font-signature:3 0 0 0 1 0\;}\n /* Style Definitions */\np.MsoNormal\, li.MsoNormal\, div.MsoNormal\n	{mso-style-unhide:no\;\n	mso-style-qformat:yes\;\n	mso-style-parent:""\;\n	margin:0in\;\n	margin-bottom:.0001pt\;\n	mso-pagination:widow-orphan\;\n	font-size:12.0pt\;\n	font-family:Cambria\;\n	mso-ascii-font-family:Cambria\;\n	mso-ascii-theme-font:minor-latin\;\n	mso-fareast-font-family:"&#65325\;&#65331\; &#26126\;&#26397\;"\;\n	mso-fareast-theme-font:minor-fareast\;\n	mso-hansi-font-family:Cambria\;\n	mso-hansi-theme-font:minor-latin\;\n	mso-bidi-font-family:"Times New Roman"\;\n	mso-bidi-theme-font:minor-bidi\;}\n.MsoChpDefault\n	{mso-style-type:export-only\;\n	mso-default-props:yes\;\n	font-family:Cambria\;\n	mso-ascii-font-family:Cambria\;\n	mso-ascii-theme-font:minor-latin\;\n	mso-fareast-font-family:"&#65325\;&#65331\; &#26126\;&#26397\;"\;\n	mso-fareast-theme-font:minor-fareast\;\n	mso-hansi-font-family:Cambria\;\n	mso-hansi-theme-font:minor-latin\;\n	mso-bidi-font-family:"Times New Roman"\;\n	mso-bidi-theme-font:minor-bidi\;}\n@page WordSection1\n	{size:8.5in 11.0in\;\n	margin:1.0in 1.25in 1.0in 1.25in\;\n	mso-header-margin:.5in\;\n	mso-footer-margin:.5in\;\n	mso-paper-source:0\;}\ndiv.WordSection1\n	{page:WordSection1\;}\n--></style>\n<p class="MsoNormal">\n	Visitors to Design Fair at Gallery of Amazing Things will have the rare experience of viewing one the finest and most elusive of Leonardo da Vinci&rsquo\;s sculptured masterpieces to be publically offered for sale this century.</p>\n<p class="MsoNormal">\n	Inspired by da Vinci who is considered the father of design\, Design Fair\, which is scheduled for June 21 -23 in Dania Beach\, will be a weekend of discovery&nbsp\;like no other organizers said.</p>\n<p class="MsoNormal">\n	&ldquo\;We invite the public to see and purchase impressive collections of contemporary art\, estate jewelry\, watches\, vintage Louis Vuitton trunks sculpture\, natural history\, antiques\, posh lighting\, furniture\, home d&eacute\;cor and much more&mdash\;all with an emphasis on great design\,&rdquo\; said Arron Rimpley of The Gallery of Amazing Things.<br style="mso-special-character:line-break" />\n	<br />\n	50-million-year-old fossil murals\, maritime artifacts\, aviart\, antique ceramics\, high porcelain\, monumental crystals from the caves of South America\, World War II naval binoculars are among the other wonders from around the world that will be on display.</p>\n<p class="MsoNormal">\n	The highlight of Design Fair will be the unveiling of a limited edition bronze sculpture derived from a rare wax model carved by the engineer of the Italian Renaissance\, Leonardo da Vinci.<br />\n	<br />\n	&ldquo\;In the chronicles of world history\, few names command the worldwide recognition\, respect\, and awe as inventor\, architect\, astronomer\, scientist and artist Leonardo da Vinci\,&rdquo\; said Gregg Whittecar of The Gallery of Amazing Things. &ldquo\;Recent exhibitions of da Vinci&rsquo\;s work have caused an international groundswell of interest in Leonardo&rsquo\;s sculptural works.&rdquo\;<br />\n	<br />\n	Da Vinci&rsquo\;s &ldquo\;Horse and Rider&rdquo\; was originally inherited by Leonardo&rsquo\;s star pupil\, Francesco Metzi. The sculpture languished in a Swiss vault until 1985 when it was inspected by the greatest Leonardo da Vinci expert in the world\, Professor Carlo Pedretti\, best known as the Armand Hammer Director of Leonardo Studies at the University of California in Los Angeles. Upon extensive examination of the sculpture model\, Professor Pedrettie stated in writing: <i>&quot\;In my opinion\, this wax model is by Leonardo himself.&quot\;</i></p>\n
LOCATION:The Gallery of Amazing Things is located at 481 South Federal Highway in Dania Beach\, just 5 minutes south of the Ft. Lauderdale International Airport and 2 miles from the DCOTA. Look for the white building with the T-rex skeleton.
UID:e.828.895
SEQUENCE:3
DTSTAMP:20260424T161745Z
URL:http://business.daniabeachchamber.org/events/details/design-fair-at-the-gallery-of-amazing-things-06-21-2013-895
END:VEVENT

END:VCALENDAR
