BEGIN:VCALENDAR
VERSION:2.0
PRODID:-//ChamberMaster//Event Calendar 2.0//EN
METHOD:PUBLISH
X-PUBLISHED-TTL:P3D
REFRESH-INTERVAL:P3D
CALSCALE:GREGORIAN
BEGIN:VEVENT
DTSTART:20110814T140000Z
DTEND:20110828T140000Z
X-MICROSOFT-CDO-ALLDAYEVENT:FALSE
SUMMARY:Event at ST RUTH MISSIONARY BAPTIST CHURCH
DESCRIPTION:St. Ruth celebrates 103 years of service to the community. Sunday services start at 10:00 am. Week night services start at 7:15 pm.  Week night services will held on 8/17\, 8/18 and 8/19.
X-ALT-DESC;FMTTYPE=text/html:St. Ruth celebrates 103 years of service to the community. Sunday services start at 10:00 am. Week night services start at 7:15 pm.&nbsp\; Week night services will held on 8/17\, 8/18 and 8/19.
LOCATION:145 NW 5th Avenue Dania Beach
UID:e.828.215
SEQUENCE:3
DTSTAMP:20260426T035857Z
URL:http://business.daniabeachchamber.org/events/details/event-at-st-ruth-missionary-baptist-church-08-14-2011-215
END:VEVENT

END:VCALENDAR
