BEGIN:VCALENDAR
VERSION:2.0
PRODID:-//ChamberMaster//Event Calendar 2.0//EN
METHOD:PUBLISH
X-PUBLISHED-TTL:P3D
REFRESH-INTERVAL:P3D
CALSCALE:GREGORIAN
BEGIN:VEVENT
DTSTART:20111022T110000Z
DTEND:20111022T120000Z
X-MICROSOFT-CDO-ALLDAYEVENT:FALSE
SUMMARY:Event at ST RUTH MISSIONARY BAPTIST CHURCH
DESCRIPTION:Cancer Ministry of Saint Ruth walk for the cure
X-ALT-DESC;FMTTYPE=text/html:Cancer Ministry of Saint Ruth walk for the cure
LOCATION:145 NW 5th Avenue\, Dania
UID:e.828.235
SEQUENCE:3
DTSTAMP:20260426T010031Z
URL:http://business.daniabeachchamber.org/events/details/event-at-st-ruth-missionary-baptist-church-10-22-2011-235
END:VEVENT

END:VCALENDAR
