BEGIN:VCALENDAR
VERSION:2.0
PRODID:-//ChamberMaster//Event Calendar 2.0//EN
METHOD:PUBLISH
X-PUBLISHED-TTL:P3D
REFRESH-INTERVAL:P3D
CALSCALE:GREGORIAN
BEGIN:VEVENT
DTSTART:20111220T210000Z
DTEND:20111221T000000Z
X-MICROSOFT-CDO-ALLDAYEVENT:FALSE
SUMMARY:Event at ST RUTH MISSIONARY BAPTIST CHURCH
DESCRIPTION:Hope for the Holidays event free to the community.  Free give aways which includes food\, toys\, clothes\, hot meal among other items.
X-ALT-DESC;FMTTYPE=text/html:Hope for the Holidays event free to the community.&nbsp\; Free give aways which includes food\, toys\, clothes\, hot meal among other items.
LOCATION:145 NW 5th Ave\, Dania
UID:e.828.241
SEQUENCE:3
DTSTAMP:20260425T214145Z
URL:http://business.daniabeachchamber.org/events/details/event-at-st-ruth-missionary-baptist-church-12-20-2011-241
END:VEVENT

END:VCALENDAR
