BEGIN:VCALENDAR
VERSION:2.0
PRODID:-//ChamberMaster//Event Calendar 2.0//EN
METHOD:PUBLISH
X-PUBLISHED-TTL:P3D
REFRESH-INTERVAL:P3D
CALSCALE:GREGORIAN
BEGIN:VEVENT
DTSTART:20130220T160000Z
DTEND:20130220T180000Z
X-MICROSOFT-CDO-ALLDAYEVENT:FALSE
SUMMARY:Explore No-Bid Federal Contracts
DESCRIPTION:International Association of U.S. Government Contractors\n\nPresents the Dania Beach Chamber of Commerce Event: "Explore No-Bid Federal Contracts"\n\n \n\nCAPTURE YOUR SHARE OF $500 BILLION FEDERAL MARKET  WITHOUT BIDDING!\n\n \n\nIf you want the fastest\, easiest\, lowest cost way to start winning your share of profits from the federal government without bidding\, this could be the most important event you'll attend this year.\n\n \n\nBelow is just a quick outline of what you will learn:\n\n \n\nLEARN:    Learnthe Facts to decide if No-Bid Federal Contracting can dramatically grow your business!\n\nLEARN:    Learnthe 5 Myths that prevent 98% of small businesses from selling to the largest customer!\n\nLEARN:    Learnhow your small business can avoid all the red-tape to sell to the Federal Government!\n\nLEARN:    Learn how enroll for FREE into a web site where federal buyers will call you for business!\n\nLEARN:    Learn how to avoid the bidding process and win no-bid federal contracts!\n\nLEARN:    Learnwhat you have to do to qualify to sell to the Federal Government!\n\n \n\n"Explore No-Bid Federal Contracts" Webinar Event Date:\n\n*             Wednesday\, February 20th from 11:00 am to 1:00 (includes lunch)                            \n\nIGFA World Fishing Center\n\n300 Gulf Stream Way\n\nDania Beach\, FL  33004\n\n \n\nTuition:  Tuition is $20 for members and $25 for non-members. \n\n \n\nWe don't have unlimited space.   If the past is any indication of the future\, spaces fill up very quickly.  If you are interested in attending\, send in your registration or call immediately to be assured a space.  Don't wait and "do it later".\n\n \n\nNOTE:  Hundreds of people have been exposed to this material and felt it was the most valuable information on winning federal government contracts they have ever heard.  You will pay $5\,000 to $8\,000 for less information.  Find out for yourself with absolutely no risk.  If you don't agree\, you don't pay.  Plain and simple.\n\n \n\nWho is the IA U.S. GC?  Since 2008\, International Association of U.S. Government Contractors (www.IAUSGC.org) has helped over 1\,100 small businesses nationwide gain access to the US Federal Government.  Our Mission is to enable every qualified small business to grow and return to greatness by educating and coaching them to enjoy 20% of their profits from winning federal government contracts without bidding\, red tape\, or needing expensive government consultants.\n\n \n\nBottom Line:  The bottom line is if you want an extra $150\,000 in your bank account in the next 4-6 months from federal contracting this could be the most important event you'll attend for your business.\n\n \n\n \n\nDon't Wait.  Register Now!
X-ALT-DESC;FMTTYPE=text/html:<strong><span style="font-family:arial\,sans-serif\;"><span style="font-size:12.0pt\;">International Association of U.S. Government Contractors</span></span></strong><br />\n<span style="font-family:arial\,sans-serif\;"><span style="font-size:12.0pt\;">Presents the <span style="font-size:16px\;"><em><span style="color: red\;">Dania Beach Chamber of Commerce </span></em></span></span><span style="font-size:16px\;"><span style="color: red\;"><em>Event</em></span></span></span><span style="font-size:16px\;">:</span> <span style="font-size:16px\;">&ldquo\;<strong><em>Explore No-Bid Federal Contracts&rdquo\;</em></strong></span><br />\n&nbsp\;<br />\n<span style="font-family:arial black\,sans-serif\;"><span style="font-size:20.0pt\;">CAPTURE YOUR SHARE OF $500 BILLION FEDERAL MARKET &hellip\;<em><u>WITHOUT</u></em> BIDDING!</span></span><br />\n&nbsp\;<br />\nIf you want the fastest\, easiest\, lowest cost way to start winning your share of profits from the federal government without bidding\, this could be the most important event you&rsquo\;ll attend this year.<br />\n&nbsp\;<br />\nBelow is just a quick outline of what you will learn:<br />\n&nbsp\;<br />\n<strong><span style="color:red\;">LEARN</span></strong><strong>:&nbsp\;&nbsp\;&nbsp\; </strong><strong>Learn</strong>the Facts to decide if No-Bid Federal Contracting can dramatically grow your business!<br />\n<strong><span style="color:red\;">LEARN</span></strong><strong>:&nbsp\;&nbsp\;&nbsp\; </strong><strong>Learn</strong>the 5 Myths that prevent 98% of small businesses from selling to the largest customer!<br />\n<strong><span style="color:red\;">LEARN</span></strong><strong>:&nbsp\;&nbsp\;&nbsp\; </strong><strong>Learn</strong>how your small business can avoid all the red-tape to sell to the Federal Government!<br />\n<strong><span style="color:red\;">LEARN</span></strong><strong>: &nbsp\;&nbsp\; Learn </strong>how enroll for FREE into a web site where federal buyers will call you for business!<br />\n<strong><span style="color:red\;">LEARN</span></strong><strong>:&nbsp\;&nbsp\;&nbsp\; Learn </strong>how to avoid the bidding process and win no-bid federal contracts!<br />\n<strong><span style="color:red\;">LEARN</span></strong><strong>: &nbsp\;&nbsp\; </strong><strong>Learn</strong>what you have to do to qualify to sell to the Federal Government!<br />\n&nbsp\;<br />\n<strong><u>&ldquo\;<em>Explore No-Bid Federal Contracts</em>&rdquo\; Webinar Event Date</u></strong>:<br />\n* &nbsp\; &nbsp\; &nbsp\; &nbsp\; &nbsp\; &nbsp\; Wednesday\, February 20<sup>th</sup> from 11:00 am to 1:00 (includes lunch)&nbsp\;&nbsp\;&nbsp\;&nbsp\;&nbsp\;&nbsp\;&nbsp\;&nbsp\;&nbsp\;&nbsp\;&nbsp\;&nbsp\;&nbsp\;&nbsp\;&nbsp\;&nbsp\;&nbsp\;&nbsp\;&nbsp\;&nbsp\;&nbsp\;&nbsp\;&nbsp\;&nbsp\;&nbsp\;&nbsp\;&nbsp\;&nbsp\;<br />\nIGFA World Fishing Center<br />\n300 Gulf Stream Way<br />\nDania Beach\, FL&nbsp\; 33004<br />\n&nbsp\;<br />\n<strong><u>Tuition</u></strong>:&nbsp\; Tuition is $20 for members and $25 for non-members.&nbsp\;<br />\n&nbsp\;<br />\nWe don&rsquo\;t have unlimited space. &nbsp\;&nbsp\;If the past is any indication of the future\, spaces fill up very quickly.&nbsp\; If you are interested in attending\, send in your registration or call immediately to be assured a space.&nbsp\; Don&rsquo\;t wait and &ldquo\;do it later&rdquo\;.<br />\n&nbsp\;<br />\n<strong><u>NOTE:</u></strong>&nbsp\; Hundreds of people have been exposed to this material and felt it was the most valuable information on winning federal government contracts they have ever heard.&nbsp\; You will pay $5\,000 to $8\,000 for less information.&nbsp\; Find out for yourself with absolutely no risk.&nbsp\; If you don&rsquo\;t agree\, you don&rsquo\;t pay.&nbsp\; Plain and simple.<br />\n&nbsp\;<br />\n<strong><u>Who is the IA U.S. GC?&nbsp\; </u></strong>Since 2008\, <strong>International Association of U.S. Government Contractors</strong> (<a href="http://www.IAUSGC.org">www.IAUSGC.org</a>) has helped over 1\,100 small businesses nationwide gain access to the US Federal Government.&nbsp\; Our Mission is to enable every qualified small business to grow and return to greatness by educating and coaching them to enjoy 20% of their profits from winning federal government contracts without bidding\, red tape\, or needing expensive government consultants.<br />\n&nbsp\;<br />\n<strong><u>Bottom Line:</u></strong>&nbsp\; The bottom line is if you want an extra $150\,000 in your bank account in the next 4-6 months from federal contracting this could be the most important event you&#39\;ll attend for your business.<br />\n&nbsp\;<br />\n&nbsp\;<br />\nDon&rsquo\;t Wait.&nbsp\; Register Now!&nbsp\; 
LOCATION:IGFA World Fishing Center 300 Gulf Stream Way Dania Beach\, FL 33004
UID:e.828.862
SEQUENCE:3
DTSTAMP:20260424T223419Z
URL:http://business.daniabeachchamber.org/events/details/explore-no-bid-federal-contracts-02-20-2013-862
END:VEVENT

END:VCALENDAR
