BEGIN:VCALENDAR
VERSION:2.0
PRODID:-//ChamberMaster//Event Calendar 2.0//EN
METHOD:PUBLISH
X-PUBLISHED-TTL:P3D
REFRESH-INTERVAL:P3D
CALSCALE:GREGORIAN
BEGIN:VEVENT
DTSTART:20130606T210000Z
DTEND:20130606T220000Z
X-MICROSOFT-CDO-ALLDAYEVENT:FALSE
SUMMARY:FastSigns Grand Opening | Ribbon Cutting
DESCRIPTION:Join Us As We Welcome our Newest Chamber Member\n\n \n\non June 6th at 5pm  \n\n \n\n\n\nlocation: \n\nFASTSIGNS\n\n3330 Griffin Rd. Dania\, FL 33312\n\n  \n\nPlease join us for a Ribbon Cutting and Grand Opening   \n\nalong with the announcement of the MetamorphoSIGN Contest winner!   \n\n  \n\nThe prize is a $2500 Business Makeover.    \n\n \n\nRefreshments and door prizes will also be available!    \n\n \n\nPlease RSVP by Tuesday June 4th to help with catering count to 954-404-8341
X-ALT-DESC;FMTTYPE=text/html:<span style="letter-spacing:-1.5pt\;"><span style="color:#001a81\;"><span style="font-family:tahoma\,sans-serif\;"><span style="font-size:24.0pt\;">Join Us As We Welcome our Newest Chamber Member</span></span></span></span><br />\n&nbsp\;<br />\n<strong><span style="color:red\;"><span style="font-family:arial\,sans-serif\;"><span style="font-size:20.0pt\;">on June 6<sup>th</sup><sup> </sup>at 5pm &nbsp\;</span></span></span></strong><br />\n&nbsp\;<br />\n<br />\n<span style="font-family:arial\,sans-serif\;"><span style="font-size:20.0pt\;">location: </span></span><br />\n<span style="color:red\;"><span style="font-family:arial\,sans-serif\;"><span style="font-size:20.0pt\;">FAST</span></span></span><span style="color:#001a81\;"><span style="font-family:arial\,sans-serif\;"><span style="font-size:20.0pt\;">SIGNS</span></span></span><br />\n<span style="font-family:arial\,sans-serif\;"><span style="font-size:20.0pt\;">3330 Griffin Rd. Dania\, FL 33312</span></span><br />\n&nbsp\;&nbsp\;<br />\n<span style="color:black\;"><span style="font-family:arial\,sans-serif\;"><span style="font-size:20.0pt\;">Please join us for a Ribbon Cutting and Grand Opening &nbsp\;&nbsp\;</span></span></span><br />\n<span style="color:black\;"><span style="font-family:arial\,sans-serif\;"><span style="font-size:20.0pt\;">along with the announcement of the MetamorphoSIGN Contest winner! &nbsp\;&nbsp\;</span></span></span><br />\n&nbsp\;&nbsp\;<br />\n<span style="color:black\;"><span style="font-family:arial\,sans-serif\;"><span style="font-size:20.0pt\;">The prize is a $2500 Business Makeover.&nbsp\; &nbsp\;&nbsp\;</span></span></span><br />\n&nbsp\;<br />\n<span style="color:black\;"><span style="font-family:arial\,sans-serif\;"><span style="font-size:20.0pt\;">Refreshments and door prizes will also be available!&nbsp\; &nbsp\;&nbsp\;</span></span></span><br />\n&nbsp\;<br />\n<span style="color:black\;"><span style="font-family:arial\,sans-serif\;"><span style="font-size:20.0pt\;">Please RSVP by Tuesday June 4th to help with catering count to </span></span></span><strong><span style="color:black\;"><span style="font-family:arial\,sans-serif\;"><span style="font-size:20.0pt\;">954-404-8341&nbsp\;&nbsp\; </span></span></span></strong><br />\n&nbsp\;&nbsp\;<br />\n
LOCATION:FASTSIGNS 3330 Griffin Road\, Dania\, FL 33312 p: 954-404-8341 | f:954-404-8430
UID:e.828.885
SEQUENCE:3
DTSTAMP:20260424T155733Z
URL:http://business.daniabeachchamber.org/events/details/fastsigns-grand-opening-ribbon-cutting-06-06-2013-885
END:VEVENT

END:VCALENDAR
