BEGIN:VCALENDAR
VERSION:2.0
PRODID:-//ChamberMaster//Event Calendar 2.0//EN
METHOD:PUBLISH
X-PUBLISHED-TTL:P3D
REFRESH-INTERVAL:P3D
CALSCALE:GREGORIAN
BEGIN:VEVENT
DTSTART;VALUE=DATE:20120426
DTEND;VALUE=DATE:20120430
TRANSP:TRANSPARENT
X-MICROSOFT-CDO-ALLDAYEVENT:TRUE
SUMMARY:FLEET WEEK/ BROWARD NAVY DAYS 2012
DESCRIPTION:PORT EVERGLADES AND SOUTH FLORIDA WELCOMES OUR SERVICE MEN AND WOMEN\n\n	\n\n	Each spring\, the Port hosts Fleet Week\, a national celebration of our ocean-going military forces with many events\, receptions and parties honoring our guests.\n\n	 \n\n	During this week-long patriotic event\, men and woman from our Armed Forces will lead tours or our nation's latest and greatest warships\, participate in community service projects and receive some well-deserved rest and relaxation.
X-ALT-DESC;FMTTYPE=text/html:<div style="color: gray">\n	<span style="font-size: 16px"><span style="font-family: tahoma"><span style="color: #000000">PORT EVERGLADES AND SOUTH FLORIDA WELCOMES OUR SERVICE MEN AND WOMEN<br />\n	<br />\n	Each spring\, the Port hosts Fleet Week\, a national celebration of our ocean-going military forces with many events\, receptions and parties honoring our&nbsp\;guests.</span></span><br />\n	&nbsp\;</span><br />\n	<span style="color: #000000"><span style="font-size: 16px">During this week-long patriotic event\, men and woman from our Armed Forces will lead tours or our nation&#39\;s latest and greatest warships\, participate in community service projects and receive some well-deserved rest and relaxation.</span></span><br />\n	&nbsp\;</div>\n
LOCATION:
UID:e.828.273
SEQUENCE:3
DTSTAMP:20260425T144813Z
URL:http://business.daniabeachchamber.org/events/details/fleet-week-broward-navy-days-2012-04-26-2012-273
END:VEVENT

END:VCALENDAR
